BEGIN:VCALENDAR
VERSION:2.0
PRODID:-//achurchnearyou.com//eventfeed//EN
CALSCALE:GREGORIAN
METHOD:PUBLISH
X-WR-TIMEZONE:UTC
BEGIN:VEVENT
SUMMARY:Sunday Service
DTSTART;TZID=Europe/London:20260402T103000
DTEND;TZID=Europe/London:20260402T113000
DTSTAMP:20260421T091802Z
UID:1253321775122200.0achurchnearyou
CATEGORIES:
DESCRIPTION:There is a service every Sunday at 10:30am\nThere is a service
  every Thursday at 10.00am
GEO:-1.59092;54.712679
LOCATION:St David
URL:https://www.achurchnearyou.com/church/13566/service-and-events/events/
 125332/
END:VEVENT
BEGIN:VEVENT
SUMMARY:Sunday Service
DTSTART;TZID=Europe/London:20260405T103000
DTEND;TZID=Europe/London:20260405T113000
DTSTAMP:20260421T091802Z
UID:1253321775381400.0achurchnearyou
CATEGORIES:
DESCRIPTION:There is a service every Sunday at 10:30am\nThere is a service
  every Thursday at 10.00am
GEO:-1.59092;54.712679
LOCATION:St David
URL:https://www.achurchnearyou.com/church/13566/service-and-events/events/
 125332/
END:VEVENT
BEGIN:VEVENT
SUMMARY:Sunday Service
DTSTART;TZID=Europe/London:20260409T103000
DTEND;TZID=Europe/London:20260409T113000
DTSTAMP:20260421T091802Z
UID:1253321775727000.0achurchnearyou
CATEGORIES:
DESCRIPTION:There is a service every Sunday at 10:30am\nThere is a service
  every Thursday at 10.00am
GEO:-1.59092;54.712679
LOCATION:St David
URL:https://www.achurchnearyou.com/church/13566/service-and-events/events/
 125332/
END:VEVENT
BEGIN:VEVENT
SUMMARY:Sunday Service
DTSTART;TZID=Europe/London:20260412T103000
DTEND;TZID=Europe/London:20260412T113000
DTSTAMP:20260421T091802Z
UID:1253321775986200.0achurchnearyou
CATEGORIES:
DESCRIPTION:There is a service every Sunday at 10:30am\nThere is a service
  every Thursday at 10.00am
GEO:-1.59092;54.712679
LOCATION:St David
URL:https://www.achurchnearyou.com/church/13566/service-and-events/events/
 125332/
END:VEVENT
BEGIN:VEVENT
SUMMARY:Sunday Service
DTSTART;TZID=Europe/London:20260416T103000
DTEND;TZID=Europe/London:20260416T113000
DTSTAMP:20260421T091802Z
UID:1253321776331800.0achurchnearyou
CATEGORIES:
DESCRIPTION:There is a service every Sunday at 10:30am\nThere is a service
  every Thursday at 10.00am
GEO:-1.59092;54.712679
LOCATION:St David
URL:https://www.achurchnearyou.com/church/13566/service-and-events/events/
 125332/
END:VEVENT
BEGIN:VEVENT
SUMMARY:Sunday Service
DTSTART;TZID=Europe/London:20260419T103000
DTEND;TZID=Europe/London:20260419T113000
DTSTAMP:20260421T091802Z
UID:1253321776591000.0achurchnearyou
CATEGORIES:
DESCRIPTION:There is a service every Sunday at 10:30am\nThere is a service
  every Thursday at 10.00am
GEO:-1.59092;54.712679
LOCATION:St David
URL:https://www.achurchnearyou.com/church/13566/service-and-events/events/
 125332/
END:VEVENT
BEGIN:VEVENT
SUMMARY:Sunday Service
DTSTART;TZID=Europe/London:20260423T103000
DTEND;TZID=Europe/London:20260423T113000
DTSTAMP:20260421T091802Z
UID:1253321776936600.0achurchnearyou
CATEGORIES:
DESCRIPTION:There is a service every Sunday at 10:30am\nThere is a service
  every Thursday at 10.00am
GEO:-1.59092;54.712679
LOCATION:St David
URL:https://www.achurchnearyou.com/church/13566/service-and-events/events/
 125332/
END:VEVENT
BEGIN:VEVENT
SUMMARY:Sunday Service
DTSTART;TZID=Europe/London:20260426T103000
DTEND;TZID=Europe/London:20260426T113000
DTSTAMP:20260421T091802Z
UID:1253321777195800.0achurchnearyou
CATEGORIES:
DESCRIPTION:There is a service every Sunday at 10:30am\nThere is a service
  every Thursday at 10.00am
GEO:-1.59092;54.712679
LOCATION:St David
URL:https://www.achurchnearyou.com/church/13566/service-and-events/events/
 125332/
END:VEVENT
BEGIN:VEVENT
SUMMARY:Sunday Service
DTSTART;TZID=Europe/London:20260430T103000
DTEND;TZID=Europe/London:20260430T113000
DTSTAMP:20260421T091802Z
UID:1253321777541400.0achurchnearyou
CATEGORIES:
DESCRIPTION:There is a service every Sunday at 10:30am\nThere is a service
  every Thursday at 10.00am
GEO:-1.59092;54.712679
LOCATION:St David
URL:https://www.achurchnearyou.com/church/13566/service-and-events/events/
 125332/
END:VEVENT
BEGIN:VEVENT
SUMMARY:Sunday Service
DTSTART;TZID=Europe/London:20260503T103000
DTEND;TZID=Europe/London:20260503T113000
DTSTAMP:20260421T091802Z
UID:1253321777800600.0achurchnearyou
CATEGORIES:
DESCRIPTION:There is a service every Sunday at 10:30am\nThere is a service
  every Thursday at 10.00am
GEO:-1.59092;54.712679
LOCATION:St David
URL:https://www.achurchnearyou.com/church/13566/service-and-events/events/
 125332/
END:VEVENT
BEGIN:VEVENT
SUMMARY:Sunday Service
DTSTART;TZID=Europe/London:20260507T103000
DTEND;TZID=Europe/London:20260507T113000
DTSTAMP:20260421T091802Z
UID:1253321778146200.0achurchnearyou
CATEGORIES:
DESCRIPTION:There is a service every Sunday at 10:30am\nThere is a service
  every Thursday at 10.00am
GEO:-1.59092;54.712679
LOCATION:St David
URL:https://www.achurchnearyou.com/church/13566/service-and-events/events/
 125332/
END:VEVENT
BEGIN:VEVENT
SUMMARY:Sunday Service
DTSTART;TZID=Europe/London:20260510T103000
DTEND;TZID=Europe/London:20260510T113000
DTSTAMP:20260421T091802Z
UID:1253321778405400.0achurchnearyou
CATEGORIES:
DESCRIPTION:There is a service every Sunday at 10:30am\nThere is a service
  every Thursday at 10.00am
GEO:-1.59092;54.712679
LOCATION:St David
URL:https://www.achurchnearyou.com/church/13566/service-and-events/events/
 125332/
END:VEVENT
BEGIN:VEVENT
SUMMARY:Sunday Service
DTSTART;TZID=Europe/London:20260514T103000
DTEND;TZID=Europe/London:20260514T113000
DTSTAMP:20260421T091802Z
UID:1253321778751000.0achurchnearyou
CATEGORIES:
DESCRIPTION:There is a service every Sunday at 10:30am\nThere is a service
  every Thursday at 10.00am
GEO:-1.59092;54.712679
LOCATION:St David
URL:https://www.achurchnearyou.com/church/13566/service-and-events/events/
 125332/
END:VEVENT
BEGIN:VEVENT
SUMMARY:Sunday Service
DTSTART;TZID=Europe/London:20260517T103000
DTEND;TZID=Europe/London:20260517T113000
DTSTAMP:20260421T091802Z
UID:1253321779010200.0achurchnearyou
CATEGORIES:
DESCRIPTION:There is a service every Sunday at 10:30am\nThere is a service
  every Thursday at 10.00am
GEO:-1.59092;54.712679
LOCATION:St David
URL:https://www.achurchnearyou.com/church/13566/service-and-events/events/
 125332/
END:VEVENT
BEGIN:VEVENT
SUMMARY:Sunday Service
DTSTART;TZID=Europe/London:20260521T103000
DTEND;TZID=Europe/London:20260521T113000
DTSTAMP:20260421T091802Z
UID:1253321779355800.0achurchnearyou
CATEGORIES:
DESCRIPTION:There is a service every Sunday at 10:30am\nThere is a service
  every Thursday at 10.00am
GEO:-1.59092;54.712679
LOCATION:St David
URL:https://www.achurchnearyou.com/church/13566/service-and-events/events/
 125332/
END:VEVENT
BEGIN:VEVENT
SUMMARY:Sunday Service
DTSTART;TZID=Europe/London:20260524T103000
DTEND;TZID=Europe/London:20260524T113000
DTSTAMP:20260421T091802Z
UID:1253321779615000.0achurchnearyou
CATEGORIES:
DESCRIPTION:There is a service every Sunday at 10:30am\nThere is a service
  every Thursday at 10.00am
GEO:-1.59092;54.712679
LOCATION:St David
URL:https://www.achurchnearyou.com/church/13566/service-and-events/events/
 125332/
END:VEVENT
BEGIN:VEVENT
SUMMARY:Sunday Service
DTSTART;TZID=Europe/London:20260528T103000
DTEND;TZID=Europe/London:20260528T113000
DTSTAMP:20260421T091802Z
UID:1253321779960600.0achurchnearyou
CATEGORIES:
DESCRIPTION:There is a service every Sunday at 10:30am\nThere is a service
  every Thursday at 10.00am
GEO:-1.59092;54.712679
LOCATION:St David
URL:https://www.achurchnearyou.com/church/13566/service-and-events/events/
 125332/
END:VEVENT
BEGIN:VEVENT
SUMMARY:Sunday Service
DTSTART;TZID=Europe/London:20260531T103000
DTEND;TZID=Europe/London:20260531T113000
DTSTAMP:20260421T091802Z
UID:1253321780219800.0achurchnearyou
CATEGORIES:
DESCRIPTION:There is a service every Sunday at 10:30am\nThere is a service
  every Thursday at 10.00am
GEO:-1.59092;54.712679
LOCATION:St David
URL:https://www.achurchnearyou.com/church/13566/service-and-events/events/
 125332/
END:VEVENT
BEGIN:VEVENT
SUMMARY:Sunday Service
DTSTART;TZID=Europe/London:20260604T103000
DTEND;TZID=Europe/London:20260604T113000
DTSTAMP:20260421T091802Z
UID:1253321780565400.0achurchnearyou
CATEGORIES:
DESCRIPTION:There is a service every Sunday at 10:30am\nThere is a service
  every Thursday at 10.00am
GEO:-1.59092;54.712679
LOCATION:St David
URL:https://www.achurchnearyou.com/church/13566/service-and-events/events/
 125332/
END:VEVENT
BEGIN:VEVENT
SUMMARY:Sunday Service
DTSTART;TZID=Europe/London:20260607T103000
DTEND;TZID=Europe/London:20260607T113000
DTSTAMP:20260421T091802Z
UID:1253321780824600.0achurchnearyou
CATEGORIES:
DESCRIPTION:There is a service every Sunday at 10:30am\nThere is a service
  every Thursday at 10.00am
GEO:-1.59092;54.712679
LOCATION:St David
URL:https://www.achurchnearyou.com/church/13566/service-and-events/events/
 125332/
END:VEVENT
BEGIN:VEVENT
SUMMARY:Sunday Service
DTSTART;TZID=Europe/London:20260611T103000
DTEND;TZID=Europe/London:20260611T113000
DTSTAMP:20260421T091802Z
UID:1253321781170200.0achurchnearyou
CATEGORIES:
DESCRIPTION:There is a service every Sunday at 10:30am\nThere is a service
  every Thursday at 10.00am
GEO:-1.59092;54.712679
LOCATION:St David
URL:https://www.achurchnearyou.com/church/13566/service-and-events/events/
 125332/
END:VEVENT
BEGIN:VEVENT
SUMMARY:Sunday Service
DTSTART;TZID=Europe/London:20260614T103000
DTEND;TZID=Europe/London:20260614T113000
DTSTAMP:20260421T091802Z
UID:1253321781429400.0achurchnearyou
CATEGORIES:
DESCRIPTION:There is a service every Sunday at 10:30am\nThere is a service
  every Thursday at 10.00am
GEO:-1.59092;54.712679
LOCATION:St David
URL:https://www.achurchnearyou.com/church/13566/service-and-events/events/
 125332/
END:VEVENT
BEGIN:VEVENT
SUMMARY:Sunday Service
DTSTART;TZID=Europe/London:20260618T103000
DTEND;TZID=Europe/London:20260618T113000
DTSTAMP:20260421T091802Z
UID:1253321781775000.0achurchnearyou
CATEGORIES:
DESCRIPTION:There is a service every Sunday at 10:30am\nThere is a service
  every Thursday at 10.00am
GEO:-1.59092;54.712679
LOCATION:St David
URL:https://www.achurchnearyou.com/church/13566/service-and-events/events/
 125332/
END:VEVENT
BEGIN:VEVENT
SUMMARY:Sunday Service
DTSTART;TZID=Europe/London:20260621T103000
DTEND;TZID=Europe/London:20260621T113000
DTSTAMP:20260421T091802Z
UID:1253321782034200.0achurchnearyou
CATEGORIES:
DESCRIPTION:There is a service every Sunday at 10:30am\nThere is a service
  every Thursday at 10.00am
GEO:-1.59092;54.712679
LOCATION:St David
URL:https://www.achurchnearyou.com/church/13566/service-and-events/events/
 125332/
END:VEVENT
BEGIN:VEVENT
SUMMARY:Sunday Service
DTSTART;TZID=Europe/London:20260625T103000
DTEND;TZID=Europe/London:20260625T113000
DTSTAMP:20260421T091802Z
UID:1253321782379800.0achurchnearyou
CATEGORIES:
DESCRIPTION:There is a service every Sunday at 10:30am\nThere is a service
  every Thursday at 10.00am
GEO:-1.59092;54.712679
LOCATION:St David
URL:https://www.achurchnearyou.com/church/13566/service-and-events/events/
 125332/
END:VEVENT
BEGIN:VEVENT
SUMMARY:Sunday Service
DTSTART;TZID=Europe/London:20260628T103000
DTEND;TZID=Europe/London:20260628T113000
DTSTAMP:20260421T091802Z
UID:1253321782639000.0achurchnearyou
CATEGORIES:
DESCRIPTION:There is a service every Sunday at 10:30am\nThere is a service
  every Thursday at 10.00am
GEO:-1.59092;54.712679
LOCATION:St David
URL:https://www.achurchnearyou.com/church/13566/service-and-events/events/
 125332/
END:VEVENT
BEGIN:VEVENT
SUMMARY:Sunday Service
DTSTART;TZID=Europe/London:20260702T103000
DTEND;TZID=Europe/London:20260702T113000
DTSTAMP:20260421T091802Z
UID:1253321782984600.0achurchnearyou
CATEGORIES:
DESCRIPTION:There is a service every Sunday at 10:30am\nThere is a service
  every Thursday at 10.00am
GEO:-1.59092;54.712679
LOCATION:St David
URL:https://www.achurchnearyou.com/church/13566/service-and-events/events/
 125332/
END:VEVENT
BEGIN:VEVENT
SUMMARY:Sunday Service
DTSTART;TZID=Europe/London:20260705T103000
DTEND;TZID=Europe/London:20260705T113000
DTSTAMP:20260421T091802Z
UID:1253321783243800.0achurchnearyou
CATEGORIES:
DESCRIPTION:There is a service every Sunday at 10:30am\nThere is a service
  every Thursday at 10.00am
GEO:-1.59092;54.712679
LOCATION:St David
URL:https://www.achurchnearyou.com/church/13566/service-and-events/events/
 125332/
END:VEVENT
BEGIN:VEVENT
SUMMARY:Sunday Service
DTSTART;TZID=Europe/London:20260709T103000
DTEND;TZID=Europe/London:20260709T113000
DTSTAMP:20260421T091802Z
UID:1253321783589400.0achurchnearyou
CATEGORIES:
DESCRIPTION:There is a service every Sunday at 10:30am\nThere is a service
  every Thursday at 10.00am
GEO:-1.59092;54.712679
LOCATION:St David
URL:https://www.achurchnearyou.com/church/13566/service-and-events/events/
 125332/
END:VEVENT
BEGIN:VEVENT
SUMMARY:Sunday Service
DTSTART;TZID=Europe/London:20260712T103000
DTEND;TZID=Europe/London:20260712T113000
DTSTAMP:20260421T091802Z
UID:1253321783848600.0achurchnearyou
CATEGORIES:
DESCRIPTION:There is a service every Sunday at 10:30am\nThere is a service
  every Thursday at 10.00am
GEO:-1.59092;54.712679
LOCATION:St David
URL:https://www.achurchnearyou.com/church/13566/service-and-events/events/
 125332/
END:VEVENT
BEGIN:VEVENT
SUMMARY:Sunday Service
DTSTART;TZID=Europe/London:20260716T103000
DTEND;TZID=Europe/London:20260716T113000
DTSTAMP:20260421T091802Z
UID:1253321784194200.0achurchnearyou
CATEGORIES:
DESCRIPTION:There is a service every Sunday at 10:30am\nThere is a service
  every Thursday at 10.00am
GEO:-1.59092;54.712679
LOCATION:St David
URL:https://www.achurchnearyou.com/church/13566/service-and-events/events/
 125332/
END:VEVENT
BEGIN:VEVENT
SUMMARY:Sunday Service
DTSTART;TZID=Europe/London:20260719T103000
DTEND;TZID=Europe/London:20260719T113000
DTSTAMP:20260421T091802Z
UID:1253321784453400.0achurchnearyou
CATEGORIES:
DESCRIPTION:There is a service every Sunday at 10:30am\nThere is a service
  every Thursday at 10.00am
GEO:-1.59092;54.712679
LOCATION:St David
URL:https://www.achurchnearyou.com/church/13566/service-and-events/events/
 125332/
END:VEVENT
BEGIN:VEVENT
SUMMARY:Sunday Service
DTSTART;TZID=Europe/London:20260723T103000
DTEND;TZID=Europe/London:20260723T113000
DTSTAMP:20260421T091802Z
UID:1253321784799000.0achurchnearyou
CATEGORIES:
DESCRIPTION:There is a service every Sunday at 10:30am\nThere is a service
  every Thursday at 10.00am
GEO:-1.59092;54.712679
LOCATION:St David
URL:https://www.achurchnearyou.com/church/13566/service-and-events/events/
 125332/
END:VEVENT
BEGIN:VEVENT
SUMMARY:Sunday Service
DTSTART;TZID=Europe/London:20260726T103000
DTEND;TZID=Europe/London:20260726T113000
DTSTAMP:20260421T091802Z
UID:1253321785058200.0achurchnearyou
CATEGORIES:
DESCRIPTION:There is a service every Sunday at 10:30am\nThere is a service
  every Thursday at 10.00am
GEO:-1.59092;54.712679
LOCATION:St David
URL:https://www.achurchnearyou.com/church/13566/service-and-events/events/
 125332/
END:VEVENT
BEGIN:VEVENT
SUMMARY:Sunday Service
DTSTART;TZID=Europe/London:20260730T103000
DTEND;TZID=Europe/London:20260730T113000
DTSTAMP:20260421T091802Z
UID:1253321785403800.0achurchnearyou
CATEGORIES:
DESCRIPTION:There is a service every Sunday at 10:30am\nThere is a service
  every Thursday at 10.00am
GEO:-1.59092;54.712679
LOCATION:St David
URL:https://www.achurchnearyou.com/church/13566/service-and-events/events/
 125332/
END:VEVENT
BEGIN:VEVENT
SUMMARY:Sunday Service
DTSTART;TZID=Europe/London:20260802T103000
DTEND;TZID=Europe/London:20260802T113000
DTSTAMP:20260421T091802Z
UID:1253321785663000.0achurchnearyou
CATEGORIES:
DESCRIPTION:There is a service every Sunday at 10:30am\nThere is a service
  every Thursday at 10.00am
GEO:-1.59092;54.712679
LOCATION:St David
URL:https://www.achurchnearyou.com/church/13566/service-and-events/events/
 125332/
END:VEVENT
BEGIN:VEVENT
SUMMARY:Sunday Service
DTSTART;TZID=Europe/London:20260806T103000
DTEND;TZID=Europe/London:20260806T113000
DTSTAMP:20260421T091802Z
UID:1253321786008600.0achurchnearyou
CATEGORIES:
DESCRIPTION:There is a service every Sunday at 10:30am\nThere is a service
  every Thursday at 10.00am
GEO:-1.59092;54.712679
LOCATION:St David
URL:https://www.achurchnearyou.com/church/13566/service-and-events/events/
 125332/
END:VEVENT
BEGIN:VEVENT
SUMMARY:Sunday Service
DTSTART;TZID=Europe/London:20260809T103000
DTEND;TZID=Europe/London:20260809T113000
DTSTAMP:20260421T091802Z
UID:1253321786267800.0achurchnearyou
CATEGORIES:
DESCRIPTION:There is a service every Sunday at 10:30am\nThere is a service
  every Thursday at 10.00am
GEO:-1.59092;54.712679
LOCATION:St David
URL:https://www.achurchnearyou.com/church/13566/service-and-events/events/
 125332/
END:VEVENT
BEGIN:VEVENT
SUMMARY:Sunday Service
DTSTART;TZID=Europe/London:20260813T103000
DTEND;TZID=Europe/London:20260813T113000
DTSTAMP:20260421T091802Z
UID:1253321786613400.0achurchnearyou
CATEGORIES:
DESCRIPTION:There is a service every Sunday at 10:30am\nThere is a service
  every Thursday at 10.00am
GEO:-1.59092;54.712679
LOCATION:St David
URL:https://www.achurchnearyou.com/church/13566/service-and-events/events/
 125332/
END:VEVENT
BEGIN:VEVENT
SUMMARY:Sunday Service
DTSTART;TZID=Europe/London:20260816T103000
DTEND;TZID=Europe/London:20260816T113000
DTSTAMP:20260421T091802Z
UID:1253321786872600.0achurchnearyou
CATEGORIES:
DESCRIPTION:There is a service every Sunday at 10:30am\nThere is a service
  every Thursday at 10.00am
GEO:-1.59092;54.712679
LOCATION:St David
URL:https://www.achurchnearyou.com/church/13566/service-and-events/events/
 125332/
END:VEVENT
BEGIN:VEVENT
SUMMARY:Sunday Service
DTSTART;TZID=Europe/London:20260820T103000
DTEND;TZID=Europe/London:20260820T113000
DTSTAMP:20260421T091802Z
UID:1253321787218200.0achurchnearyou
CATEGORIES:
DESCRIPTION:There is a service every Sunday at 10:30am\nThere is a service
  every Thursday at 10.00am
GEO:-1.59092;54.712679
LOCATION:St David
URL:https://www.achurchnearyou.com/church/13566/service-and-events/events/
 125332/
END:VEVENT
BEGIN:VEVENT
SUMMARY:Sunday Service
DTSTART;TZID=Europe/London:20260823T103000
DTEND;TZID=Europe/London:20260823T113000
DTSTAMP:20260421T091802Z
UID:1253321787477400.0achurchnearyou
CATEGORIES:
DESCRIPTION:There is a service every Sunday at 10:30am\nThere is a service
  every Thursday at 10.00am
GEO:-1.59092;54.712679
LOCATION:St David
URL:https://www.achurchnearyou.com/church/13566/service-and-events/events/
 125332/
END:VEVENT
BEGIN:VEVENT
SUMMARY:Sunday Service
DTSTART;TZID=Europe/London:20260827T103000
DTEND;TZID=Europe/London:20260827T113000
DTSTAMP:20260421T091802Z
UID:1253321787823000.0achurchnearyou
CATEGORIES:
DESCRIPTION:There is a service every Sunday at 10:30am\nThere is a service
  every Thursday at 10.00am
GEO:-1.59092;54.712679
LOCATION:St David
URL:https://www.achurchnearyou.com/church/13566/service-and-events/events/
 125332/
END:VEVENT
BEGIN:VEVENT
SUMMARY:Sunday Service
DTSTART;TZID=Europe/London:20260830T103000
DTEND;TZID=Europe/London:20260830T113000
DTSTAMP:20260421T091802Z
UID:1253321788082200.0achurchnearyou
CATEGORIES:
DESCRIPTION:There is a service every Sunday at 10:30am\nThere is a service
  every Thursday at 10.00am
GEO:-1.59092;54.712679
LOCATION:St David
URL:https://www.achurchnearyou.com/church/13566/service-and-events/events/
 125332/
END:VEVENT
BEGIN:VEVENT
SUMMARY:Sunday Service
DTSTART;TZID=Europe/London:20260903T103000
DTEND;TZID=Europe/London:20260903T113000
DTSTAMP:20260421T091802Z
UID:1253321788427800.0achurchnearyou
CATEGORIES:
DESCRIPTION:There is a service every Sunday at 10:30am\nThere is a service
  every Thursday at 10.00am
GEO:-1.59092;54.712679
LOCATION:St David
URL:https://www.achurchnearyou.com/church/13566/service-and-events/events/
 125332/
END:VEVENT
BEGIN:VEVENT
SUMMARY:Sunday Service
DTSTART;TZID=Europe/London:20260906T103000
DTEND;TZID=Europe/London:20260906T113000
DTSTAMP:20260421T091802Z
UID:1253321788687000.0achurchnearyou
CATEGORIES:
DESCRIPTION:There is a service every Sunday at 10:30am\nThere is a service
  every Thursday at 10.00am
GEO:-1.59092;54.712679
LOCATION:St David
URL:https://www.achurchnearyou.com/church/13566/service-and-events/events/
 125332/
END:VEVENT
BEGIN:VEVENT
SUMMARY:Sunday Service
DTSTART;TZID=Europe/London:20260910T103000
DTEND;TZID=Europe/London:20260910T113000
DTSTAMP:20260421T091802Z
UID:1253321789032600.0achurchnearyou
CATEGORIES:
DESCRIPTION:There is a service every Sunday at 10:30am\nThere is a service
  every Thursday at 10.00am
GEO:-1.59092;54.712679
LOCATION:St David
URL:https://www.achurchnearyou.com/church/13566/service-and-events/events/
 125332/
END:VEVENT
BEGIN:VEVENT
SUMMARY:Sunday Service
DTSTART;TZID=Europe/London:20260913T103000
DTEND;TZID=Europe/London:20260913T113000
DTSTAMP:20260421T091802Z
UID:1253321789291800.0achurchnearyou
CATEGORIES:
DESCRIPTION:There is a service every Sunday at 10:30am\nThere is a service
  every Thursday at 10.00am
GEO:-1.59092;54.712679
LOCATION:St David
URL:https://www.achurchnearyou.com/church/13566/service-and-events/events/
 125332/
END:VEVENT
BEGIN:VEVENT
SUMMARY:Sunday Service
DTSTART;TZID=Europe/London:20260917T103000
DTEND;TZID=Europe/London:20260917T113000
DTSTAMP:20260421T091802Z
UID:1253321789637400.0achurchnearyou
CATEGORIES:
DESCRIPTION:There is a service every Sunday at 10:30am\nThere is a service
  every Thursday at 10.00am
GEO:-1.59092;54.712679
LOCATION:St David
URL:https://www.achurchnearyou.com/church/13566/service-and-events/events/
 125332/
END:VEVENT
BEGIN:VEVENT
SUMMARY:Sunday Service
DTSTART;TZID=Europe/London:20260920T103000
DTEND;TZID=Europe/London:20260920T113000
DTSTAMP:20260421T091802Z
UID:1253321789896600.0achurchnearyou
CATEGORIES:
DESCRIPTION:There is a service every Sunday at 10:30am\nThere is a service
  every Thursday at 10.00am
GEO:-1.59092;54.712679
LOCATION:St David
URL:https://www.achurchnearyou.com/church/13566/service-and-events/events/
 125332/
END:VEVENT
BEGIN:VEVENT
SUMMARY:Sunday Service
DTSTART;TZID=Europe/London:20260924T103000
DTEND;TZID=Europe/London:20260924T113000
DTSTAMP:20260421T091802Z
UID:1253321790242200.0achurchnearyou
CATEGORIES:
DESCRIPTION:There is a service every Sunday at 10:30am\nThere is a service
  every Thursday at 10.00am
GEO:-1.59092;54.712679
LOCATION:St David
URL:https://www.achurchnearyou.com/church/13566/service-and-events/events/
 125332/
END:VEVENT
BEGIN:VEVENT
SUMMARY:Sunday Service
DTSTART;TZID=Europe/London:20260927T103000
DTEND;TZID=Europe/London:20260927T113000
DTSTAMP:20260421T091802Z
UID:1253321790501400.0achurchnearyou
CATEGORIES:
DESCRIPTION:There is a service every Sunday at 10:30am\nThere is a service
  every Thursday at 10.00am
GEO:-1.59092;54.712679
LOCATION:St David
URL:https://www.achurchnearyou.com/church/13566/service-and-events/events/
 125332/
END:VEVENT
END:VCALENDAR
