BEGIN:VCALENDAR
VERSION:2.0
PRODID:-//achurchnearyou.com//eventfeed//EN
CALSCALE:GREGORIAN
METHOD:PUBLISH
X-WR-TIMEZONE:UTC
BEGIN:VEVENT
SUMMARY:Easter Day Holy Communion at St John's Church Stillington
DTSTART:20260405T093000Z
DTEND:20260405T103000Z
DTSTAMP:20260421T061450Z
UID:13186512026-04-05 09:30:00+00:00achurchnearyou
CATEGORIES:
DESCRIPTION:Sunday Service with Holy Communion
LOCATION:St John's Church\, Stillington
URL:https://www.achurchnearyou.com/church/13627/service-and-events/events/
 1318651/
END:VEVENT
END:VCALENDAR
