BEGIN:VCALENDAR
VERSION:2.0
PRODID:-//achurchnearyou.com//eventfeed//EN
CALSCALE:GREGORIAN
METHOD:PUBLISH
X-WR-TIMEZONE:UTC
BEGIN:VEVENT
SUMMARY:Morning Prayer with Prayers at the Crib
DTSTART:20251228T083000Z
DTEND:20251228T090000Z
DTSTAMP:20260420T044508Z
UID:12757492025-12-28 08:30:00+00:00achurchnearyou
CATEGORIES:
DESCRIPTION:A short\, said service. Please note that there will not be a 1
 0.30am service this Sunday at St. Chad's - all are warmly welcome to join 
 St. Helen's (Belle Vue Bank\, Low Fell\, NE9 6BR) for their Mass at 9.30am
 .
GEO:-1.611686;54.94934
LOCATION:St Chad's
URL:https://www.achurchnearyou.com/church/13661/service-and-events/events/
 1275749/
END:VEVENT
END:VCALENDAR
