BEGIN:VCALENDAR
VERSION:2.0
PRODID:-//achurchnearyou.com//eventfeed//EN
CALSCALE:GREGORIAN
METHOD:PUBLISH
X-WR-TIMEZONE:UTC
BEGIN:VEVENT
SUMMARY:Cowboy Night
DTSTART:20260516T170000Z
DTEND:20260516T193000Z
DTSTAMP:20260422T122816Z
UID:13258192026-05-16 17:00:00+00:00achurchnearyou
CATEGORIES:
DESCRIPTION:Yee ha! Bring your Cowboy boots or shoes you can dance in.\n\n
 Line dancing to great music in St Barnabas' Community Centre on 18th May. 
 \nThe fun begins at 6pm. \n\nJacket potatoes with various fixings will be 
 included\, bring your own drink. \nTickets include food and cost £8 \n\nL
 imited parking is available in the car park\, otherwise please be respectf
 ul of our neighbours.
LOCATION:St Barnabas' Community Centre
URL:https://www.achurchnearyou.com/church/13685/service-and-events/events/
 1325819/
END:VEVENT
END:VCALENDAR
