BEGIN:VCALENDAR
VERSION:2.0
PRODID:-//achurchnearyou.com//eventfeed//EN
CALSCALE:GREGORIAN
METHOD:PUBLISH
X-WR-TIMEZONE:UTC
BEGIN:VEVENT
SUMMARY:'Olivet to Calvary' A Devotional Concert for Holy Week with Jarrow
  Choral Society at St. Paul's
DTSTART;TZID=Europe/London:20250416T190000
DTEND;TZID=Europe/London:20250416T200000
DTSTAMP:20260419T211842Z
UID:11647202025-04-16 19:00:00+01:00achurchnearyou
CATEGORIES:
DESCRIPTION:Enter into the Passion of Christ with this evocative\, dramati
 c devotional concert.
GEO:-1.472179;54.980403
LOCATION:St Paul's Church\, Jarrow
URL:https://parishofjarrowandsimonside.info/
END:VEVENT
END:VCALENDAR
