BEGIN:VCALENDAR
VERSION:2.0
PRODID:-//achurchnearyou.com//eventfeed//EN
CALSCALE:GREGORIAN
METHOD:PUBLISH
X-WR-TIMEZONE:UTC
BEGIN:VEVENT
SUMMARY:Eucharist for Christmas
DTSTART:20251224T193000Z
DTEND:20251224T203000Z
DTSTAMP:20260422T065756Z
UID:10185042025-12-24 19:30:00+00:00achurchnearyou
CATEGORIES:
DESCRIPTION:Come and join us as we welcome the Christ child in Communion
GEO:-1.435294;54.988163
LOCATION:St Jude
URL:https://www.achurchnearyou.com/church/13712/service-and-events/events/
 1018504/
END:VEVENT
END:VCALENDAR
