BEGIN:VCALENDAR
VERSION:2.0
PRODID:-//achurchnearyou.com//eventfeed//EN
CALSCALE:GREGORIAN
METHOD:PUBLISH
X-WR-TIMEZONE:UTC
BEGIN:VEVENT
SUMMARY:Christmas Day service
DTSTART:20251225T103000Z
DTEND:20251225T113000Z
DTSTAMP:20260422T085505Z
UID:10185052025-12-25 10:30:00+00:00achurchnearyou
CATEGORIES:
DESCRIPTION:Join us to celebrate Christmas Day itself. Bring your Christma
 s jumpers and your Christmas joy.
GEO:-1.435294;54.988163
LOCATION:St Jude
URL:https://www.achurchnearyou.com/church/13712/service-and-events/events/
 1018505/
END:VEVENT
END:VCALENDAR
