BEGIN:VCALENDAR
VERSION:2.0
PRODID:-//achurchnearyou.com//eventfeed//EN
CALSCALE:GREGORIAN
METHOD:PUBLISH
X-WR-TIMEZONE:UTC
BEGIN:VEVENT
SUMMARY:Hot Cross Buns and Good Friday Walk to Holy Trinity Church
DTSTART:20250418T111500Z
DTEND:20250418T123000Z
DTSTAMP:20260419T125227Z
UID:1613612025-04-18 11:15:00+00:00achurchnearyou
CATEGORIES:
DESCRIPTION:Missional Walk of witness from St. Cuthbert's to Holy Trinity 
 for the\nService of the Cross.
GEO:-1.432242;54.926258
LOCATION:St Cuthbert\, Red House
URL:https://www.achurchnearyou.com/church/13738/service-and-events/events/
 161361/
END:VEVENT
END:VCALENDAR
