BEGIN:VCALENDAR
VERSION:2.0
PRODID:-//achurchnearyou.com//eventfeed//EN
CALSCALE:GREGORIAN
METHOD:PUBLISH
X-WR-TIMEZONE:UTC
BEGIN:VEVENT
SUMMARY:The Harbour Bereavement Café
DTSTART;TZID=Europe/London:20260508T123000
DTEND;TZID=Europe/London:20260508T140000
DTSTAMP:20260421T191846Z
UID:10518422026-05-08 12:30:00+01:00achurchnearyou
CATEGORIES:
DESCRIPTION:An informal\, monthly drop-in for adults to meet together\, sh
 are experiences and chat with those who are also walking the bereavement j
 ourney.\n \nThe Harbour is open to any adults who have experienced the dea
 th of someone close to them\, whenever that may have been. It is free to a
 ttend and you are welcome to drop in at any time during the café times.  
 There is no need to book in advance.\n\nVolunteers from Cambourne Church h
 ave set up The Harbour Bereavement Café to offer people who have been ber
 eaved a place to meet and connect with others who are also on the journey 
 of bereavement. It is a safe and welcoming place to speak openly about exp
 eriences of bereavement and to find support and signposting within a relax
 ed and informal atmosphere.\n\nOur volunteers\, who are trained in bereave
 ment support\, will be on hand and confidentiality is respected.\n  \nIt i
 s open to all adults – of all faiths and of none.
GEO:-0.06345;52.218893
LOCATION:Cambourne Church
URL:https://www.achurchnearyou.com/church/13766/service-and-events/events/
 1051842/
END:VEVENT
BEGIN:VEVENT
SUMMARY:The Harbour Bereavement Café
DTSTART;TZID=Europe/London:20260612T123000
DTEND;TZID=Europe/London:20260612T140000
DTSTAMP:20260421T191846Z
UID:10518422026-06-12 12:30:00+01:00achurchnearyou
CATEGORIES:
DESCRIPTION:An informal\, monthly drop-in for adults to meet together\, sh
 are experiences and chat with those who are also walking the bereavement j
 ourney.\n \nThe Harbour is open to any adults who have experienced the dea
 th of someone close to them\, whenever that may have been. It is free to a
 ttend and you are welcome to drop in at any time during the café times.  
 There is no need to book in advance.\n\nVolunteers from Cambourne Church h
 ave set up The Harbour Bereavement Café to offer people who have been ber
 eaved a place to meet and connect with others who are also on the journey 
 of bereavement. It is a safe and welcoming place to speak openly about exp
 eriences of bereavement and to find support and signposting within a relax
 ed and informal atmosphere.\n\nOur volunteers\, who are trained in bereave
 ment support\, will be on hand and confidentiality is respected.\n  \nIt i
 s open to all adults – of all faiths and of none.
GEO:-0.06345;52.218893
LOCATION:Cambourne Church
URL:https://www.achurchnearyou.com/church/13766/service-and-events/events/
 1051842/
END:VEVENT
BEGIN:VEVENT
SUMMARY:The Harbour Bereavement Café
DTSTART;TZID=Europe/London:20260710T123000
DTEND;TZID=Europe/London:20260710T140000
DTSTAMP:20260421T191846Z
UID:10518422026-07-10 12:30:00+01:00achurchnearyou
CATEGORIES:
DESCRIPTION:An informal\, monthly drop-in for adults to meet together\, sh
 are experiences and chat with those who are also walking the bereavement j
 ourney.\n \nThe Harbour is open to any adults who have experienced the dea
 th of someone close to them\, whenever that may have been. It is free to a
 ttend and you are welcome to drop in at any time during the café times.  
 There is no need to book in advance.\n\nVolunteers from Cambourne Church h
 ave set up The Harbour Bereavement Café to offer people who have been ber
 eaved a place to meet and connect with others who are also on the journey 
 of bereavement. It is a safe and welcoming place to speak openly about exp
 eriences of bereavement and to find support and signposting within a relax
 ed and informal atmosphere.\n\nOur volunteers\, who are trained in bereave
 ment support\, will be on hand and confidentiality is respected.\n  \nIt i
 s open to all adults – of all faiths and of none.
GEO:-0.06345;52.218893
LOCATION:Cambourne Church
URL:https://www.achurchnearyou.com/church/13766/service-and-events/events/
 1051842/
END:VEVENT
BEGIN:VEVENT
SUMMARY:The Harbour Bereavement Café
DTSTART;TZID=Europe/London:20260814T123000
DTEND;TZID=Europe/London:20260814T140000
DTSTAMP:20260421T191846Z
UID:10518422026-08-14 12:30:00+01:00achurchnearyou
CATEGORIES:
DESCRIPTION:An informal\, monthly drop-in for adults to meet together\, sh
 are experiences and chat with those who are also walking the bereavement j
 ourney.\n \nThe Harbour is open to any adults who have experienced the dea
 th of someone close to them\, whenever that may have been. It is free to a
 ttend and you are welcome to drop in at any time during the café times.  
 There is no need to book in advance.\n\nVolunteers from Cambourne Church h
 ave set up The Harbour Bereavement Café to offer people who have been ber
 eaved a place to meet and connect with others who are also on the journey 
 of bereavement. It is a safe and welcoming place to speak openly about exp
 eriences of bereavement and to find support and signposting within a relax
 ed and informal atmosphere.\n\nOur volunteers\, who are trained in bereave
 ment support\, will be on hand and confidentiality is respected.\n  \nIt i
 s open to all adults – of all faiths and of none.
GEO:-0.06345;52.218893
LOCATION:Cambourne Church
URL:https://www.achurchnearyou.com/church/13766/service-and-events/events/
 1051842/
END:VEVENT
BEGIN:VEVENT
SUMMARY:The Harbour Bereavement Café
DTSTART;TZID=Europe/London:20260911T123000
DTEND;TZID=Europe/London:20260911T140000
DTSTAMP:20260421T191846Z
UID:10518422026-09-11 12:30:00+01:00achurchnearyou
CATEGORIES:
DESCRIPTION:An informal\, monthly drop-in for adults to meet together\, sh
 are experiences and chat with those who are also walking the bereavement j
 ourney.\n \nThe Harbour is open to any adults who have experienced the dea
 th of someone close to them\, whenever that may have been. It is free to a
 ttend and you are welcome to drop in at any time during the café times.  
 There is no need to book in advance.\n\nVolunteers from Cambourne Church h
 ave set up The Harbour Bereavement Café to offer people who have been ber
 eaved a place to meet and connect with others who are also on the journey 
 of bereavement. It is a safe and welcoming place to speak openly about exp
 eriences of bereavement and to find support and signposting within a relax
 ed and informal atmosphere.\n\nOur volunteers\, who are trained in bereave
 ment support\, will be on hand and confidentiality is respected.\n  \nIt i
 s open to all adults – of all faiths and of none.
GEO:-0.06345;52.218893
LOCATION:Cambourne Church
URL:https://www.achurchnearyou.com/church/13766/service-and-events/events/
 1051842/
END:VEVENT
BEGIN:VEVENT
SUMMARY:The Harbour Bereavement Café
DTSTART;TZID=Europe/London:20261009T123000
DTEND;TZID=Europe/London:20261009T140000
DTSTAMP:20260421T191846Z
UID:10518422026-10-09 12:30:00+01:00achurchnearyou
CATEGORIES:
DESCRIPTION:An informal\, monthly drop-in for adults to meet together\, sh
 are experiences and chat with those who are also walking the bereavement j
 ourney.\n \nThe Harbour is open to any adults who have experienced the dea
 th of someone close to them\, whenever that may have been. It is free to a
 ttend and you are welcome to drop in at any time during the café times.  
 There is no need to book in advance.\n\nVolunteers from Cambourne Church h
 ave set up The Harbour Bereavement Café to offer people who have been ber
 eaved a place to meet and connect with others who are also on the journey 
 of bereavement. It is a safe and welcoming place to speak openly about exp
 eriences of bereavement and to find support and signposting within a relax
 ed and informal atmosphere.\n\nOur volunteers\, who are trained in bereave
 ment support\, will be on hand and confidentiality is respected.\n  \nIt i
 s open to all adults – of all faiths and of none.
GEO:-0.06345;52.218893
LOCATION:Cambourne Church
URL:https://www.achurchnearyou.com/church/13766/service-and-events/events/
 1051842/
END:VEVENT
BEGIN:VEVENT
SUMMARY:The Harbour Bereavement Café
DTSTART;TZID=Europe/London:20261113T123000
DTEND;TZID=Europe/London:20261113T140000
DTSTAMP:20260421T191846Z
UID:10518422026-11-13 12:30:00+00:00achurchnearyou
CATEGORIES:
DESCRIPTION:An informal\, monthly drop-in for adults to meet together\, sh
 are experiences and chat with those who are also walking the bereavement j
 ourney.\n \nThe Harbour is open to any adults who have experienced the dea
 th of someone close to them\, whenever that may have been. It is free to a
 ttend and you are welcome to drop in at any time during the café times.  
 There is no need to book in advance.\n\nVolunteers from Cambourne Church h
 ave set up The Harbour Bereavement Café to offer people who have been ber
 eaved a place to meet and connect with others who are also on the journey 
 of bereavement. It is a safe and welcoming place to speak openly about exp
 eriences of bereavement and to find support and signposting within a relax
 ed and informal atmosphere.\n\nOur volunteers\, who are trained in bereave
 ment support\, will be on hand and confidentiality is respected.\n  \nIt i
 s open to all adults – of all faiths and of none.
GEO:-0.06345;52.218893
LOCATION:Cambourne Church
URL:https://www.achurchnearyou.com/church/13766/service-and-events/events/
 1051842/
END:VEVENT
BEGIN:VEVENT
SUMMARY:The Harbour Bereavement Café
DTSTART;TZID=Europe/London:20261211T123000
DTEND;TZID=Europe/London:20261211T140000
DTSTAMP:20260421T191846Z
UID:10518422026-12-11 12:30:00+00:00achurchnearyou
CATEGORIES:
DESCRIPTION:An informal\, monthly drop-in for adults to meet together\, sh
 are experiences and chat with those who are also walking the bereavement j
 ourney.\n \nThe Harbour is open to any adults who have experienced the dea
 th of someone close to them\, whenever that may have been. It is free to a
 ttend and you are welcome to drop in at any time during the café times.  
 There is no need to book in advance.\n\nVolunteers from Cambourne Church h
 ave set up The Harbour Bereavement Café to offer people who have been ber
 eaved a place to meet and connect with others who are also on the journey 
 of bereavement. It is a safe and welcoming place to speak openly about exp
 eriences of bereavement and to find support and signposting within a relax
 ed and informal atmosphere.\n\nOur volunteers\, who are trained in bereave
 ment support\, will be on hand and confidentiality is respected.\n  \nIt i
 s open to all adults – of all faiths and of none.
GEO:-0.06345;52.218893
LOCATION:Cambourne Church
URL:https://www.achurchnearyou.com/church/13766/service-and-events/events/
 1051842/
END:VEVENT
BEGIN:VEVENT
SUMMARY:The Harbour Bereavement Café
DTSTART;TZID=Europe/London:20270108T123000
DTEND;TZID=Europe/London:20270108T140000
DTSTAMP:20260421T191846Z
UID:10518422027-01-08 12:30:00+00:00achurchnearyou
CATEGORIES:
DESCRIPTION:An informal\, monthly drop-in for adults to meet together\, sh
 are experiences and chat with those who are also walking the bereavement j
 ourney.\n \nThe Harbour is open to any adults who have experienced the dea
 th of someone close to them\, whenever that may have been. It is free to a
 ttend and you are welcome to drop in at any time during the café times.  
 There is no need to book in advance.\n\nVolunteers from Cambourne Church h
 ave set up The Harbour Bereavement Café to offer people who have been ber
 eaved a place to meet and connect with others who are also on the journey 
 of bereavement. It is a safe and welcoming place to speak openly about exp
 eriences of bereavement and to find support and signposting within a relax
 ed and informal atmosphere.\n\nOur volunteers\, who are trained in bereave
 ment support\, will be on hand and confidentiality is respected.\n  \nIt i
 s open to all adults – of all faiths and of none.
GEO:-0.06345;52.218893
LOCATION:Cambourne Church
URL:https://www.achurchnearyou.com/church/13766/service-and-events/events/
 1051842/
END:VEVENT
BEGIN:VEVENT
SUMMARY:The Harbour Bereavement Café
DTSTART;TZID=Europe/London:20270212T123000
DTEND;TZID=Europe/London:20270212T140000
DTSTAMP:20260421T191846Z
UID:10518422027-02-12 12:30:00+00:00achurchnearyou
CATEGORIES:
DESCRIPTION:An informal\, monthly drop-in for adults to meet together\, sh
 are experiences and chat with those who are also walking the bereavement j
 ourney.\n \nThe Harbour is open to any adults who have experienced the dea
 th of someone close to them\, whenever that may have been. It is free to a
 ttend and you are welcome to drop in at any time during the café times.  
 There is no need to book in advance.\n\nVolunteers from Cambourne Church h
 ave set up The Harbour Bereavement Café to offer people who have been ber
 eaved a place to meet and connect with others who are also on the journey 
 of bereavement. It is a safe and welcoming place to speak openly about exp
 eriences of bereavement and to find support and signposting within a relax
 ed and informal atmosphere.\n\nOur volunteers\, who are trained in bereave
 ment support\, will be on hand and confidentiality is respected.\n  \nIt i
 s open to all adults – of all faiths and of none.
GEO:-0.06345;52.218893
LOCATION:Cambourne Church
URL:https://www.achurchnearyou.com/church/13766/service-and-events/events/
 1051842/
END:VEVENT
BEGIN:VEVENT
SUMMARY:The Harbour Bereavement Café
DTSTART;TZID=Europe/London:20270312T123000
DTEND;TZID=Europe/London:20270312T140000
DTSTAMP:20260421T191846Z
UID:10518422027-03-12 12:30:00+00:00achurchnearyou
CATEGORIES:
DESCRIPTION:An informal\, monthly drop-in for adults to meet together\, sh
 are experiences and chat with those who are also walking the bereavement j
 ourney.\n \nThe Harbour is open to any adults who have experienced the dea
 th of someone close to them\, whenever that may have been. It is free to a
 ttend and you are welcome to drop in at any time during the café times.  
 There is no need to book in advance.\n\nVolunteers from Cambourne Church h
 ave set up The Harbour Bereavement Café to offer people who have been ber
 eaved a place to meet and connect with others who are also on the journey 
 of bereavement. It is a safe and welcoming place to speak openly about exp
 eriences of bereavement and to find support and signposting within a relax
 ed and informal atmosphere.\n\nOur volunteers\, who are trained in bereave
 ment support\, will be on hand and confidentiality is respected.\n  \nIt i
 s open to all adults – of all faiths and of none.
GEO:-0.06345;52.218893
LOCATION:Cambourne Church
URL:https://www.achurchnearyou.com/church/13766/service-and-events/events/
 1051842/
END:VEVENT
BEGIN:VEVENT
SUMMARY:The Harbour Bereavement Café
DTSTART;TZID=Europe/London:20270409T123000
DTEND;TZID=Europe/London:20270409T140000
DTSTAMP:20260421T191846Z
UID:10518422027-04-09 12:30:00+01:00achurchnearyou
CATEGORIES:
DESCRIPTION:An informal\, monthly drop-in for adults to meet together\, sh
 are experiences and chat with those who are also walking the bereavement j
 ourney.\n \nThe Harbour is open to any adults who have experienced the dea
 th of someone close to them\, whenever that may have been. It is free to a
 ttend and you are welcome to drop in at any time during the café times.  
 There is no need to book in advance.\n\nVolunteers from Cambourne Church h
 ave set up The Harbour Bereavement Café to offer people who have been ber
 eaved a place to meet and connect with others who are also on the journey 
 of bereavement. It is a safe and welcoming place to speak openly about exp
 eriences of bereavement and to find support and signposting within a relax
 ed and informal atmosphere.\n\nOur volunteers\, who are trained in bereave
 ment support\, will be on hand and confidentiality is respected.\n  \nIt i
 s open to all adults – of all faiths and of none.
GEO:-0.06345;52.218893
LOCATION:Cambourne Church
URL:https://www.achurchnearyou.com/church/13766/service-and-events/events/
 1051842/
END:VEVENT
END:VCALENDAR
