BEGIN:VCALENDAR
VERSION:2.0
PRODID:-//achurchnearyou.com//eventfeed//EN
CALSCALE:GREGORIAN
METHOD:PUBLISH
X-WR-TIMEZONE:UTC
BEGIN:VEVENT
SUMMARY:All Age Good Friday Reflective Service
DTSTART:20260403T093000Z
DTEND:20260403T103000Z
DTSTAMP:20260421T225500Z
UID:12952192026-04-03 09:30:00+00:00achurchnearyou
CATEGORIES:
DESCRIPTION:Join us for an All-Age time of prayer and worship as we rememb
 er the sacrifice made for us by Jesus on the first Good Friday.\n\nFor tho
 se who would like to\, there will be a walk with a cross from the top of C
 row Hill (the highest point of Cambourne) at 10am. The walkers will then j
 oin with this service.
GEO:-0.06345;52.218893
LOCATION:Cambourne Church
URL:https://www.achurchnearyou.com/church/13766/service-and-events/events/
 1295219/
END:VEVENT
END:VCALENDAR
