BEGIN:VCALENDAR
VERSION:2.0
PRODID:-//achurchnearyou.com//eventfeed//EN
CALSCALE:GREGORIAN
METHOD:PUBLISH
X-WR-TIMEZONE:UTC
BEGIN:VEVENT
SUMMARY:Meditation Group
DTSTART;TZID=Europe/London:20260427T120000
DTEND;TZID=Europe/London:20260427T134500
DTSTAMP:20260423T021422Z
UID:9892592026-04-27 12:00:00+01:00achurchnearyou
CATEGORIES:
DESCRIPTION:A Christian Meditation group meeting weekly for 25 minutes of 
 silent prayer. We use resources from the World Community for Christian Med
 itation (https://wccm.org/). All are welcome.
GEO:0.152166;52.181636
LOCATION:St James' Cambridge
URL:http://www.stjamescambridge.org.uk
END:VEVENT
BEGIN:VEVENT
SUMMARY:Meditation Group
DTSTART;TZID=Europe/London:20260504T120000
DTEND;TZID=Europe/London:20260504T134500
DTSTAMP:20260423T021422Z
UID:9892592026-05-04 12:00:00+01:00achurchnearyou
CATEGORIES:
DESCRIPTION:A Christian Meditation group meeting weekly for 25 minutes of 
 silent prayer. We use resources from the World Community for Christian Med
 itation (https://wccm.org/). All are welcome.
GEO:0.152166;52.181636
LOCATION:St James' Cambridge
URL:http://www.stjamescambridge.org.uk
END:VEVENT
BEGIN:VEVENT
SUMMARY:Meditation Group
DTSTART;TZID=Europe/London:20260511T120000
DTEND;TZID=Europe/London:20260511T134500
DTSTAMP:20260423T021422Z
UID:9892592026-05-11 12:00:00+01:00achurchnearyou
CATEGORIES:
DESCRIPTION:A Christian Meditation group meeting weekly for 25 minutes of 
 silent prayer. We use resources from the World Community for Christian Med
 itation (https://wccm.org/). All are welcome.
GEO:0.152166;52.181636
LOCATION:St James' Cambridge
URL:http://www.stjamescambridge.org.uk
END:VEVENT
BEGIN:VEVENT
SUMMARY:Meditation Group
DTSTART;TZID=Europe/London:20260518T120000
DTEND;TZID=Europe/London:20260518T134500
DTSTAMP:20260423T021422Z
UID:9892592026-05-18 12:00:00+01:00achurchnearyou
CATEGORIES:
DESCRIPTION:A Christian Meditation group meeting weekly for 25 minutes of 
 silent prayer. We use resources from the World Community for Christian Med
 itation (https://wccm.org/). All are welcome.
GEO:0.152166;52.181636
LOCATION:St James' Cambridge
URL:http://www.stjamescambridge.org.uk
END:VEVENT
BEGIN:VEVENT
SUMMARY:Meditation Group
DTSTART;TZID=Europe/London:20260525T120000
DTEND;TZID=Europe/London:20260525T134500
DTSTAMP:20260423T021422Z
UID:9892592026-05-25 12:00:00+01:00achurchnearyou
CATEGORIES:
DESCRIPTION:A Christian Meditation group meeting weekly for 25 minutes of 
 silent prayer. We use resources from the World Community for Christian Med
 itation (https://wccm.org/). All are welcome.
GEO:0.152166;52.181636
LOCATION:St James' Cambridge
URL:http://www.stjamescambridge.org.uk
END:VEVENT
BEGIN:VEVENT
SUMMARY:Meditation Group
DTSTART;TZID=Europe/London:20260601T120000
DTEND;TZID=Europe/London:20260601T134500
DTSTAMP:20260423T021422Z
UID:9892592026-06-01 12:00:00+01:00achurchnearyou
CATEGORIES:
DESCRIPTION:A Christian Meditation group meeting weekly for 25 minutes of 
 silent prayer. We use resources from the World Community for Christian Med
 itation (https://wccm.org/). All are welcome.
GEO:0.152166;52.181636
LOCATION:St James' Cambridge
URL:http://www.stjamescambridge.org.uk
END:VEVENT
BEGIN:VEVENT
SUMMARY:Meditation Group
DTSTART;TZID=Europe/London:20260608T120000
DTEND;TZID=Europe/London:20260608T134500
DTSTAMP:20260423T021422Z
UID:9892592026-06-08 12:00:00+01:00achurchnearyou
CATEGORIES:
DESCRIPTION:A Christian Meditation group meeting weekly for 25 minutes of 
 silent prayer. We use resources from the World Community for Christian Med
 itation (https://wccm.org/). All are welcome.
GEO:0.152166;52.181636
LOCATION:St James' Cambridge
URL:http://www.stjamescambridge.org.uk
END:VEVENT
BEGIN:VEVENT
SUMMARY:Meditation Group
DTSTART;TZID=Europe/London:20260615T120000
DTEND;TZID=Europe/London:20260615T134500
DTSTAMP:20260423T021422Z
UID:9892592026-06-15 12:00:00+01:00achurchnearyou
CATEGORIES:
DESCRIPTION:A Christian Meditation group meeting weekly for 25 minutes of 
 silent prayer. We use resources from the World Community for Christian Med
 itation (https://wccm.org/). All are welcome.
GEO:0.152166;52.181636
LOCATION:St James' Cambridge
URL:http://www.stjamescambridge.org.uk
END:VEVENT
BEGIN:VEVENT
SUMMARY:Meditation Group
DTSTART;TZID=Europe/London:20260622T120000
DTEND;TZID=Europe/London:20260622T134500
DTSTAMP:20260423T021422Z
UID:9892592026-06-22 12:00:00+01:00achurchnearyou
CATEGORIES:
DESCRIPTION:A Christian Meditation group meeting weekly for 25 minutes of 
 silent prayer. We use resources from the World Community for Christian Med
 itation (https://wccm.org/). All are welcome.
GEO:0.152166;52.181636
LOCATION:St James' Cambridge
URL:http://www.stjamescambridge.org.uk
END:VEVENT
BEGIN:VEVENT
SUMMARY:Meditation Group
DTSTART;TZID=Europe/London:20260629T120000
DTEND;TZID=Europe/London:20260629T134500
DTSTAMP:20260423T021422Z
UID:9892592026-06-29 12:00:00+01:00achurchnearyou
CATEGORIES:
DESCRIPTION:A Christian Meditation group meeting weekly for 25 minutes of 
 silent prayer. We use resources from the World Community for Christian Med
 itation (https://wccm.org/). All are welcome.
GEO:0.152166;52.181636
LOCATION:St James' Cambridge
URL:http://www.stjamescambridge.org.uk
END:VEVENT
BEGIN:VEVENT
SUMMARY:Meditation Group
DTSTART;TZID=Europe/London:20260706T120000
DTEND;TZID=Europe/London:20260706T134500
DTSTAMP:20260423T021422Z
UID:9892592026-07-06 12:00:00+01:00achurchnearyou
CATEGORIES:
DESCRIPTION:A Christian Meditation group meeting weekly for 25 minutes of 
 silent prayer. We use resources from the World Community for Christian Med
 itation (https://wccm.org/). All are welcome.
GEO:0.152166;52.181636
LOCATION:St James' Cambridge
URL:http://www.stjamescambridge.org.uk
END:VEVENT
BEGIN:VEVENT
SUMMARY:Meditation Group
DTSTART;TZID=Europe/London:20260713T120000
DTEND;TZID=Europe/London:20260713T134500
DTSTAMP:20260423T021422Z
UID:9892592026-07-13 12:00:00+01:00achurchnearyou
CATEGORIES:
DESCRIPTION:A Christian Meditation group meeting weekly for 25 minutes of 
 silent prayer. We use resources from the World Community for Christian Med
 itation (https://wccm.org/). All are welcome.
GEO:0.152166;52.181636
LOCATION:St James' Cambridge
URL:http://www.stjamescambridge.org.uk
END:VEVENT
BEGIN:VEVENT
SUMMARY:Meditation Group
DTSTART;TZID=Europe/London:20260720T120000
DTEND;TZID=Europe/London:20260720T134500
DTSTAMP:20260423T021422Z
UID:9892592026-07-20 12:00:00+01:00achurchnearyou
CATEGORIES:
DESCRIPTION:A Christian Meditation group meeting weekly for 25 minutes of 
 silent prayer. We use resources from the World Community for Christian Med
 itation (https://wccm.org/). All are welcome.
GEO:0.152166;52.181636
LOCATION:St James' Cambridge
URL:http://www.stjamescambridge.org.uk
END:VEVENT
BEGIN:VEVENT
SUMMARY:Meditation Group
DTSTART;TZID=Europe/London:20260727T120000
DTEND;TZID=Europe/London:20260727T134500
DTSTAMP:20260423T021422Z
UID:9892592026-07-27 12:00:00+01:00achurchnearyou
CATEGORIES:
DESCRIPTION:A Christian Meditation group meeting weekly for 25 minutes of 
 silent prayer. We use resources from the World Community for Christian Med
 itation (https://wccm.org/). All are welcome.
GEO:0.152166;52.181636
LOCATION:St James' Cambridge
URL:http://www.stjamescambridge.org.uk
END:VEVENT
BEGIN:VEVENT
SUMMARY:Meditation Group
DTSTART;TZID=Europe/London:20260803T120000
DTEND;TZID=Europe/London:20260803T134500
DTSTAMP:20260423T021422Z
UID:9892592026-08-03 12:00:00+01:00achurchnearyou
CATEGORIES:
DESCRIPTION:A Christian Meditation group meeting weekly for 25 minutes of 
 silent prayer. We use resources from the World Community for Christian Med
 itation (https://wccm.org/). All are welcome.
GEO:0.152166;52.181636
LOCATION:St James' Cambridge
URL:http://www.stjamescambridge.org.uk
END:VEVENT
BEGIN:VEVENT
SUMMARY:Meditation Group
DTSTART;TZID=Europe/London:20260810T120000
DTEND;TZID=Europe/London:20260810T134500
DTSTAMP:20260423T021422Z
UID:9892592026-08-10 12:00:00+01:00achurchnearyou
CATEGORIES:
DESCRIPTION:A Christian Meditation group meeting weekly for 25 minutes of 
 silent prayer. We use resources from the World Community for Christian Med
 itation (https://wccm.org/). All are welcome.
GEO:0.152166;52.181636
LOCATION:St James' Cambridge
URL:http://www.stjamescambridge.org.uk
END:VEVENT
BEGIN:VEVENT
SUMMARY:Meditation Group
DTSTART;TZID=Europe/London:20260817T120000
DTEND;TZID=Europe/London:20260817T134500
DTSTAMP:20260423T021422Z
UID:9892592026-08-17 12:00:00+01:00achurchnearyou
CATEGORIES:
DESCRIPTION:A Christian Meditation group meeting weekly for 25 minutes of 
 silent prayer. We use resources from the World Community for Christian Med
 itation (https://wccm.org/). All are welcome.
GEO:0.152166;52.181636
LOCATION:St James' Cambridge
URL:http://www.stjamescambridge.org.uk
END:VEVENT
BEGIN:VEVENT
SUMMARY:Meditation Group
DTSTART;TZID=Europe/London:20260824T120000
DTEND;TZID=Europe/London:20260824T134500
DTSTAMP:20260423T021422Z
UID:9892592026-08-24 12:00:00+01:00achurchnearyou
CATEGORIES:
DESCRIPTION:A Christian Meditation group meeting weekly for 25 minutes of 
 silent prayer. We use resources from the World Community for Christian Med
 itation (https://wccm.org/). All are welcome.
GEO:0.152166;52.181636
LOCATION:St James' Cambridge
URL:http://www.stjamescambridge.org.uk
END:VEVENT
BEGIN:VEVENT
SUMMARY:Meditation Group
DTSTART;TZID=Europe/London:20260831T120000
DTEND;TZID=Europe/London:20260831T134500
DTSTAMP:20260423T021422Z
UID:9892592026-08-31 12:00:00+01:00achurchnearyou
CATEGORIES:
DESCRIPTION:A Christian Meditation group meeting weekly for 25 minutes of 
 silent prayer. We use resources from the World Community for Christian Med
 itation (https://wccm.org/). All are welcome.
GEO:0.152166;52.181636
LOCATION:St James' Cambridge
URL:http://www.stjamescambridge.org.uk
END:VEVENT
BEGIN:VEVENT
SUMMARY:Meditation Group
DTSTART;TZID=Europe/London:20260907T120000
DTEND;TZID=Europe/London:20260907T134500
DTSTAMP:20260423T021422Z
UID:9892592026-09-07 12:00:00+01:00achurchnearyou
CATEGORIES:
DESCRIPTION:A Christian Meditation group meeting weekly for 25 minutes of 
 silent prayer. We use resources from the World Community for Christian Med
 itation (https://wccm.org/). All are welcome.
GEO:0.152166;52.181636
LOCATION:St James' Cambridge
URL:http://www.stjamescambridge.org.uk
END:VEVENT
BEGIN:VEVENT
SUMMARY:Meditation Group
DTSTART;TZID=Europe/London:20260914T120000
DTEND;TZID=Europe/London:20260914T134500
DTSTAMP:20260423T021422Z
UID:9892592026-09-14 12:00:00+01:00achurchnearyou
CATEGORIES:
DESCRIPTION:A Christian Meditation group meeting weekly for 25 minutes of 
 silent prayer. We use resources from the World Community for Christian Med
 itation (https://wccm.org/). All are welcome.
GEO:0.152166;52.181636
LOCATION:St James' Cambridge
URL:http://www.stjamescambridge.org.uk
END:VEVENT
BEGIN:VEVENT
SUMMARY:Meditation Group
DTSTART;TZID=Europe/London:20260921T120000
DTEND;TZID=Europe/London:20260921T134500
DTSTAMP:20260423T021422Z
UID:9892592026-09-21 12:00:00+01:00achurchnearyou
CATEGORIES:
DESCRIPTION:A Christian Meditation group meeting weekly for 25 minutes of 
 silent prayer. We use resources from the World Community for Christian Med
 itation (https://wccm.org/). All are welcome.
GEO:0.152166;52.181636
LOCATION:St James' Cambridge
URL:http://www.stjamescambridge.org.uk
END:VEVENT
BEGIN:VEVENT
SUMMARY:Meditation Group
DTSTART;TZID=Europe/London:20260928T120000
DTEND;TZID=Europe/London:20260928T134500
DTSTAMP:20260423T021422Z
UID:9892592026-09-28 12:00:00+01:00achurchnearyou
CATEGORIES:
DESCRIPTION:A Christian Meditation group meeting weekly for 25 minutes of 
 silent prayer. We use resources from the World Community for Christian Med
 itation (https://wccm.org/). All are welcome.
GEO:0.152166;52.181636
LOCATION:St James' Cambridge
URL:http://www.stjamescambridge.org.uk
END:VEVENT
BEGIN:VEVENT
SUMMARY:Meditation Group
DTSTART;TZID=Europe/London:20261005T120000
DTEND;TZID=Europe/London:20261005T134500
DTSTAMP:20260423T021422Z
UID:9892592026-10-05 12:00:00+01:00achurchnearyou
CATEGORIES:
DESCRIPTION:A Christian Meditation group meeting weekly for 25 minutes of 
 silent prayer. We use resources from the World Community for Christian Med
 itation (https://wccm.org/). All are welcome.
GEO:0.152166;52.181636
LOCATION:St James' Cambridge
URL:http://www.stjamescambridge.org.uk
END:VEVENT
BEGIN:VEVENT
SUMMARY:Meditation Group
DTSTART;TZID=Europe/London:20261012T120000
DTEND;TZID=Europe/London:20261012T134500
DTSTAMP:20260423T021422Z
UID:9892592026-10-12 12:00:00+01:00achurchnearyou
CATEGORIES:
DESCRIPTION:A Christian Meditation group meeting weekly for 25 minutes of 
 silent prayer. We use resources from the World Community for Christian Med
 itation (https://wccm.org/). All are welcome.
GEO:0.152166;52.181636
LOCATION:St James' Cambridge
URL:http://www.stjamescambridge.org.uk
END:VEVENT
BEGIN:VEVENT
SUMMARY:Meditation Group
DTSTART;TZID=Europe/London:20261019T120000
DTEND;TZID=Europe/London:20261019T134500
DTSTAMP:20260423T021422Z
UID:9892592026-10-19 12:00:00+01:00achurchnearyou
CATEGORIES:
DESCRIPTION:A Christian Meditation group meeting weekly for 25 minutes of 
 silent prayer. We use resources from the World Community for Christian Med
 itation (https://wccm.org/). All are welcome.
GEO:0.152166;52.181636
LOCATION:St James' Cambridge
URL:http://www.stjamescambridge.org.uk
END:VEVENT
BEGIN:VEVENT
SUMMARY:Meditation Group
DTSTART;TZID=Europe/London:20261026T120000
DTEND;TZID=Europe/London:20261026T134500
DTSTAMP:20260423T021422Z
UID:9892592026-10-26 12:00:00+00:00achurchnearyou
CATEGORIES:
DESCRIPTION:A Christian Meditation group meeting weekly for 25 minutes of 
 silent prayer. We use resources from the World Community for Christian Med
 itation (https://wccm.org/). All are welcome.
GEO:0.152166;52.181636
LOCATION:St James' Cambridge
URL:http://www.stjamescambridge.org.uk
END:VEVENT
BEGIN:VEVENT
SUMMARY:Meditation Group
DTSTART;TZID=Europe/London:20261102T120000
DTEND;TZID=Europe/London:20261102T134500
DTSTAMP:20260423T021422Z
UID:9892592026-11-02 12:00:00+00:00achurchnearyou
CATEGORIES:
DESCRIPTION:A Christian Meditation group meeting weekly for 25 minutes of 
 silent prayer. We use resources from the World Community for Christian Med
 itation (https://wccm.org/). All are welcome.
GEO:0.152166;52.181636
LOCATION:St James' Cambridge
URL:http://www.stjamescambridge.org.uk
END:VEVENT
BEGIN:VEVENT
SUMMARY:Meditation Group
DTSTART;TZID=Europe/London:20261109T120000
DTEND;TZID=Europe/London:20261109T134500
DTSTAMP:20260423T021422Z
UID:9892592026-11-09 12:00:00+00:00achurchnearyou
CATEGORIES:
DESCRIPTION:A Christian Meditation group meeting weekly for 25 minutes of 
 silent prayer. We use resources from the World Community for Christian Med
 itation (https://wccm.org/). All are welcome.
GEO:0.152166;52.181636
LOCATION:St James' Cambridge
URL:http://www.stjamescambridge.org.uk
END:VEVENT
BEGIN:VEVENT
SUMMARY:Meditation Group
DTSTART;TZID=Europe/London:20261116T120000
DTEND;TZID=Europe/London:20261116T134500
DTSTAMP:20260423T021422Z
UID:9892592026-11-16 12:00:00+00:00achurchnearyou
CATEGORIES:
DESCRIPTION:A Christian Meditation group meeting weekly for 25 minutes of 
 silent prayer. We use resources from the World Community for Christian Med
 itation (https://wccm.org/). All are welcome.
GEO:0.152166;52.181636
LOCATION:St James' Cambridge
URL:http://www.stjamescambridge.org.uk
END:VEVENT
BEGIN:VEVENT
SUMMARY:Meditation Group
DTSTART;TZID=Europe/London:20261123T120000
DTEND;TZID=Europe/London:20261123T134500
DTSTAMP:20260423T021422Z
UID:9892592026-11-23 12:00:00+00:00achurchnearyou
CATEGORIES:
DESCRIPTION:A Christian Meditation group meeting weekly for 25 minutes of 
 silent prayer. We use resources from the World Community for Christian Med
 itation (https://wccm.org/). All are welcome.
GEO:0.152166;52.181636
LOCATION:St James' Cambridge
URL:http://www.stjamescambridge.org.uk
END:VEVENT
BEGIN:VEVENT
SUMMARY:Meditation Group
DTSTART;TZID=Europe/London:20261130T120000
DTEND;TZID=Europe/London:20261130T134500
DTSTAMP:20260423T021422Z
UID:9892592026-11-30 12:00:00+00:00achurchnearyou
CATEGORIES:
DESCRIPTION:A Christian Meditation group meeting weekly for 25 minutes of 
 silent prayer. We use resources from the World Community for Christian Med
 itation (https://wccm.org/). All are welcome.
GEO:0.152166;52.181636
LOCATION:St James' Cambridge
URL:http://www.stjamescambridge.org.uk
END:VEVENT
BEGIN:VEVENT
SUMMARY:Meditation Group
DTSTART;TZID=Europe/London:20261207T120000
DTEND;TZID=Europe/London:20261207T134500
DTSTAMP:20260423T021422Z
UID:9892592026-12-07 12:00:00+00:00achurchnearyou
CATEGORIES:
DESCRIPTION:A Christian Meditation group meeting weekly for 25 minutes of 
 silent prayer. We use resources from the World Community for Christian Med
 itation (https://wccm.org/). All are welcome.
GEO:0.152166;52.181636
LOCATION:St James' Cambridge
URL:http://www.stjamescambridge.org.uk
END:VEVENT
BEGIN:VEVENT
SUMMARY:Meditation Group
DTSTART;TZID=Europe/London:20261214T120000
DTEND;TZID=Europe/London:20261214T134500
DTSTAMP:20260423T021422Z
UID:9892592026-12-14 12:00:00+00:00achurchnearyou
CATEGORIES:
DESCRIPTION:A Christian Meditation group meeting weekly for 25 minutes of 
 silent prayer. We use resources from the World Community for Christian Med
 itation (https://wccm.org/). All are welcome.
GEO:0.152166;52.181636
LOCATION:St James' Cambridge
URL:http://www.stjamescambridge.org.uk
END:VEVENT
BEGIN:VEVENT
SUMMARY:Meditation Group
DTSTART;TZID=Europe/London:20261221T120000
DTEND;TZID=Europe/London:20261221T134500
DTSTAMP:20260423T021422Z
UID:9892592026-12-21 12:00:00+00:00achurchnearyou
CATEGORIES:
DESCRIPTION:A Christian Meditation group meeting weekly for 25 minutes of 
 silent prayer. We use resources from the World Community for Christian Med
 itation (https://wccm.org/). All are welcome.
GEO:0.152166;52.181636
LOCATION:St James' Cambridge
URL:http://www.stjamescambridge.org.uk
END:VEVENT
BEGIN:VEVENT
SUMMARY:Meditation Group
DTSTART;TZID=Europe/London:20261228T120000
DTEND;TZID=Europe/London:20261228T134500
DTSTAMP:20260423T021422Z
UID:9892592026-12-28 12:00:00+00:00achurchnearyou
CATEGORIES:
DESCRIPTION:A Christian Meditation group meeting weekly for 25 minutes of 
 silent prayer. We use resources from the World Community for Christian Med
 itation (https://wccm.org/). All are welcome.
GEO:0.152166;52.181636
LOCATION:St James' Cambridge
URL:http://www.stjamescambridge.org.uk
END:VEVENT
BEGIN:VEVENT
SUMMARY:Meditation Group
DTSTART;TZID=Europe/London:20270104T120000
DTEND;TZID=Europe/London:20270104T134500
DTSTAMP:20260423T021422Z
UID:9892592027-01-04 12:00:00+00:00achurchnearyou
CATEGORIES:
DESCRIPTION:A Christian Meditation group meeting weekly for 25 minutes of 
 silent prayer. We use resources from the World Community for Christian Med
 itation (https://wccm.org/). All are welcome.
GEO:0.152166;52.181636
LOCATION:St James' Cambridge
URL:http://www.stjamescambridge.org.uk
END:VEVENT
BEGIN:VEVENT
SUMMARY:Meditation Group
DTSTART;TZID=Europe/London:20270111T120000
DTEND;TZID=Europe/London:20270111T134500
DTSTAMP:20260423T021422Z
UID:9892592027-01-11 12:00:00+00:00achurchnearyou
CATEGORIES:
DESCRIPTION:A Christian Meditation group meeting weekly for 25 minutes of 
 silent prayer. We use resources from the World Community for Christian Med
 itation (https://wccm.org/). All are welcome.
GEO:0.152166;52.181636
LOCATION:St James' Cambridge
URL:http://www.stjamescambridge.org.uk
END:VEVENT
BEGIN:VEVENT
SUMMARY:Meditation Group
DTSTART;TZID=Europe/London:20270118T120000
DTEND;TZID=Europe/London:20270118T134500
DTSTAMP:20260423T021422Z
UID:9892592027-01-18 12:00:00+00:00achurchnearyou
CATEGORIES:
DESCRIPTION:A Christian Meditation group meeting weekly for 25 minutes of 
 silent prayer. We use resources from the World Community for Christian Med
 itation (https://wccm.org/). All are welcome.
GEO:0.152166;52.181636
LOCATION:St James' Cambridge
URL:http://www.stjamescambridge.org.uk
END:VEVENT
BEGIN:VEVENT
SUMMARY:Meditation Group
DTSTART;TZID=Europe/London:20270125T120000
DTEND;TZID=Europe/London:20270125T134500
DTSTAMP:20260423T021422Z
UID:9892592027-01-25 12:00:00+00:00achurchnearyou
CATEGORIES:
DESCRIPTION:A Christian Meditation group meeting weekly for 25 minutes of 
 silent prayer. We use resources from the World Community for Christian Med
 itation (https://wccm.org/). All are welcome.
GEO:0.152166;52.181636
LOCATION:St James' Cambridge
URL:http://www.stjamescambridge.org.uk
END:VEVENT
BEGIN:VEVENT
SUMMARY:Meditation Group
DTSTART;TZID=Europe/London:20270201T120000
DTEND;TZID=Europe/London:20270201T134500
DTSTAMP:20260423T021422Z
UID:9892592027-02-01 12:00:00+00:00achurchnearyou
CATEGORIES:
DESCRIPTION:A Christian Meditation group meeting weekly for 25 minutes of 
 silent prayer. We use resources from the World Community for Christian Med
 itation (https://wccm.org/). All are welcome.
GEO:0.152166;52.181636
LOCATION:St James' Cambridge
URL:http://www.stjamescambridge.org.uk
END:VEVENT
BEGIN:VEVENT
SUMMARY:Meditation Group
DTSTART;TZID=Europe/London:20270208T120000
DTEND;TZID=Europe/London:20270208T134500
DTSTAMP:20260423T021422Z
UID:9892592027-02-08 12:00:00+00:00achurchnearyou
CATEGORIES:
DESCRIPTION:A Christian Meditation group meeting weekly for 25 minutes of 
 silent prayer. We use resources from the World Community for Christian Med
 itation (https://wccm.org/). All are welcome.
GEO:0.152166;52.181636
LOCATION:St James' Cambridge
URL:http://www.stjamescambridge.org.uk
END:VEVENT
BEGIN:VEVENT
SUMMARY:Meditation Group
DTSTART;TZID=Europe/London:20270215T120000
DTEND;TZID=Europe/London:20270215T134500
DTSTAMP:20260423T021422Z
UID:9892592027-02-15 12:00:00+00:00achurchnearyou
CATEGORIES:
DESCRIPTION:A Christian Meditation group meeting weekly for 25 minutes of 
 silent prayer. We use resources from the World Community for Christian Med
 itation (https://wccm.org/). All are welcome.
GEO:0.152166;52.181636
LOCATION:St James' Cambridge
URL:http://www.stjamescambridge.org.uk
END:VEVENT
BEGIN:VEVENT
SUMMARY:Meditation Group
DTSTART;TZID=Europe/London:20270222T120000
DTEND;TZID=Europe/London:20270222T134500
DTSTAMP:20260423T021422Z
UID:9892592027-02-22 12:00:00+00:00achurchnearyou
CATEGORIES:
DESCRIPTION:A Christian Meditation group meeting weekly for 25 minutes of 
 silent prayer. We use resources from the World Community for Christian Med
 itation (https://wccm.org/). All are welcome.
GEO:0.152166;52.181636
LOCATION:St James' Cambridge
URL:http://www.stjamescambridge.org.uk
END:VEVENT
BEGIN:VEVENT
SUMMARY:Meditation Group
DTSTART;TZID=Europe/London:20270301T120000
DTEND;TZID=Europe/London:20270301T134500
DTSTAMP:20260423T021422Z
UID:9892592027-03-01 12:00:00+00:00achurchnearyou
CATEGORIES:
DESCRIPTION:A Christian Meditation group meeting weekly for 25 minutes of 
 silent prayer. We use resources from the World Community for Christian Med
 itation (https://wccm.org/). All are welcome.
GEO:0.152166;52.181636
LOCATION:St James' Cambridge
URL:http://www.stjamescambridge.org.uk
END:VEVENT
BEGIN:VEVENT
SUMMARY:Meditation Group
DTSTART;TZID=Europe/London:20270308T120000
DTEND;TZID=Europe/London:20270308T134500
DTSTAMP:20260423T021422Z
UID:9892592027-03-08 12:00:00+00:00achurchnearyou
CATEGORIES:
DESCRIPTION:A Christian Meditation group meeting weekly for 25 minutes of 
 silent prayer. We use resources from the World Community for Christian Med
 itation (https://wccm.org/). All are welcome.
GEO:0.152166;52.181636
LOCATION:St James' Cambridge
URL:http://www.stjamescambridge.org.uk
END:VEVENT
BEGIN:VEVENT
SUMMARY:Meditation Group
DTSTART;TZID=Europe/London:20270315T120000
DTEND;TZID=Europe/London:20270315T134500
DTSTAMP:20260423T021422Z
UID:9892592027-03-15 12:00:00+00:00achurchnearyou
CATEGORIES:
DESCRIPTION:A Christian Meditation group meeting weekly for 25 minutes of 
 silent prayer. We use resources from the World Community for Christian Med
 itation (https://wccm.org/). All are welcome.
GEO:0.152166;52.181636
LOCATION:St James' Cambridge
URL:http://www.stjamescambridge.org.uk
END:VEVENT
BEGIN:VEVENT
SUMMARY:Meditation Group
DTSTART;TZID=Europe/London:20270322T120000
DTEND;TZID=Europe/London:20270322T134500
DTSTAMP:20260423T021422Z
UID:9892592027-03-22 12:00:00+00:00achurchnearyou
CATEGORIES:
DESCRIPTION:A Christian Meditation group meeting weekly for 25 minutes of 
 silent prayer. We use resources from the World Community for Christian Med
 itation (https://wccm.org/). All are welcome.
GEO:0.152166;52.181636
LOCATION:St James' Cambridge
URL:http://www.stjamescambridge.org.uk
END:VEVENT
BEGIN:VEVENT
SUMMARY:Meditation Group
DTSTART;TZID=Europe/London:20270329T120000
DTEND;TZID=Europe/London:20270329T134500
DTSTAMP:20260423T021422Z
UID:9892592027-03-29 12:00:00+01:00achurchnearyou
CATEGORIES:
DESCRIPTION:A Christian Meditation group meeting weekly for 25 minutes of 
 silent prayer. We use resources from the World Community for Christian Med
 itation (https://wccm.org/). All are welcome.
GEO:0.152166;52.181636
LOCATION:St James' Cambridge
URL:http://www.stjamescambridge.org.uk
END:VEVENT
BEGIN:VEVENT
SUMMARY:Meditation Group
DTSTART;TZID=Europe/London:20270405T120000
DTEND;TZID=Europe/London:20270405T134500
DTSTAMP:20260423T021422Z
UID:9892592027-04-05 12:00:00+01:00achurchnearyou
CATEGORIES:
DESCRIPTION:A Christian Meditation group meeting weekly for 25 minutes of 
 silent prayer. We use resources from the World Community for Christian Med
 itation (https://wccm.org/). All are welcome.
GEO:0.152166;52.181636
LOCATION:St James' Cambridge
URL:http://www.stjamescambridge.org.uk
END:VEVENT
BEGIN:VEVENT
SUMMARY:Meditation Group
DTSTART;TZID=Europe/London:20270412T120000
DTEND;TZID=Europe/London:20270412T134500
DTSTAMP:20260423T021422Z
UID:9892592027-04-12 12:00:00+01:00achurchnearyou
CATEGORIES:
DESCRIPTION:A Christian Meditation group meeting weekly for 25 minutes of 
 silent prayer. We use resources from the World Community for Christian Med
 itation (https://wccm.org/). All are welcome.
GEO:0.152166;52.181636
LOCATION:St James' Cambridge
URL:http://www.stjamescambridge.org.uk
END:VEVENT
BEGIN:VEVENT
SUMMARY:Meditation Group
DTSTART;TZID=Europe/London:20270419T120000
DTEND;TZID=Europe/London:20270419T134500
DTSTAMP:20260423T021422Z
UID:9892592027-04-19 12:00:00+01:00achurchnearyou
CATEGORIES:
DESCRIPTION:A Christian Meditation group meeting weekly for 25 minutes of 
 silent prayer. We use resources from the World Community for Christian Med
 itation (https://wccm.org/). All are welcome.
GEO:0.152166;52.181636
LOCATION:St James' Cambridge
URL:http://www.stjamescambridge.org.uk
END:VEVENT
END:VCALENDAR
