BEGIN:VCALENDAR
VERSION:2.0
PRODID:-//achurchnearyou.com//eventfeed//EN
CALSCALE:GREGORIAN
METHOD:PUBLISH
X-WR-TIMEZONE:UTC
BEGIN:VEVENT
SUMMARY:Maundy Thursday Service
DTSTART:20260402T183000Z
DTEND:20260402T193000Z
DTSTAMP:20260419T153125Z
UID:13144462026-04-02 18:30:00+00:00achurchnearyou
CATEGORIES:
DESCRIPTION:A reflective service with the Lord's Supper
GEO:0.13968;52.208962
LOCATION:Christ Church Cambridge (St Andrew the Less)
URL:https://www.achurchnearyou.com/church/13789/service-and-events/events/
 1314446/
END:VEVENT
END:VCALENDAR
