BEGIN:VCALENDAR
VERSION:2.0
PRODID:-//achurchnearyou.com//eventfeed//EN
CALSCALE:GREGORIAN
METHOD:PUBLISH
X-WR-TIMEZONE:UTC
BEGIN:VEVENT
SUMMARY:Eucharist on Christmas Night
DTSTART:20251224T210000Z
DTEND:20251224T220000Z
DTSTAMP:20260425T011004Z
UID:12728252025-12-24 21:00:00+00:00achurchnearyou
CATEGORIES:
DESCRIPTION:Wednesday 24th December 9pm: ‘Midnight in Bethlehem’ Eucha
 rist on Christmas Night conducted by Rev'd Kevin Parks. Sermon given by Re
 v'd Michael Bigg. A cash collection will be taken in aid of Jimmy’s and 
 World Vision.
GEO:0.040908;52.223542
LOCATION:St Mary Magdalene
URL:https://www.achurchnearyou.com/church/13830/service-and-events/events/
 1272825/
END:VEVENT
END:VCALENDAR
