BEGIN:VCALENDAR
VERSION:2.0
PRODID:-//achurchnearyou.com//eventfeed//EN
CALSCALE:GREGORIAN
METHOD:PUBLISH
X-WR-TIMEZONE:UTC
BEGIN:VEVENT
SUMMARY:Walk of Witness
DTSTART:20260403T093000Z
DTEND:20260403T100000Z
DTSTAMP:20260423T103903Z
UID:3779852026-04-03 09:30:00+00:00achurchnearyou
CATEGORIES:
DESCRIPTION:From All Saints' to Landbeach Baptist Church
GEO:0.162455;52.266549
LOCATION:All Saints' Landbeach
URL:https://www.achurchnearyou.com/church/13835/service-and-events/events/
 377985/
END:VEVENT
END:VCALENDAR
