BEGIN:VCALENDAR
VERSION:2.0
PRODID:-//achurchnearyou.com//eventfeed//EN
CALSCALE:GREGORIAN
METHOD:PUBLISH
X-WR-TIMEZONE:UTC
BEGIN:VEVENT
SUMMARY:Ash Wednesday Communion
DTSTART:20260218T120000Z
DTEND:20260218T123000Z
DTSTAMP:20260424T071203Z
UID:12865372026-02-18 12:00:00+00:00achurchnearyou
CATEGORIES:
DESCRIPTION:Short service of Holy Communion\, with 'ashing'
GEO:0.09527;52.17878
LOCATION:St Andrew & St Mary\, Grantchester
URL:https://www.achurchnearyou.com/church/13841/service-and-events/events/
 1286537/
END:VEVENT
END:VCALENDAR
