BEGIN:VCALENDAR
VERSION:2.0
PRODID:-//achurchnearyou.com//eventfeed//EN
CALSCALE:GREGORIAN
METHOD:PUBLISH
X-WR-TIMEZONE:UTC
BEGIN:VEVENT
SUMMARY:Sunrise Service
DTSTART:20260405T060000Z
DTEND:20260405T064500Z
DTSTAMP:20260423T222337Z
UID:13159202026-04-05 06:00:00+00:00achurchnearyou
CATEGORIES:
DESCRIPTION:Sunrise service\, plus lighting of Easter Fire
LOCATION:Grantchester Meadows (next to the river\, by the cricket pitch)
URL:https://www.achurchnearyou.com/church/13841/service-and-events/events/
 1315920/
END:VEVENT
END:VCALENDAR
