BEGIN:VCALENDAR
VERSION:2.0
PRODID:-//achurchnearyou.com//eventfeed//EN
CALSCALE:GREGORIAN
METHOD:PUBLISH
X-WR-TIMEZONE:UTC
BEGIN:VEVENT
SUMMARY:BCP Communion
DTSTART;TZID=Europe/London:20260517T093000
DTEND;TZID=Europe/London:20260517T103000
DTSTAMP:20260422T023508Z
UID:10071222026-05-17 09:30:00+01:00achurchnearyou
CATEGORIES:
DESCRIPTION:A Traditional 'Book of Common Prayer' service also called Holy
  Communion.  The service has songs or hymns\, readings from the bible\, pr
 ayers as well as the act of Communion when we remember the last supper of 
 Jesus with his disciples\, when Jesus said to them "Take\, eat: this is my
  body which is given for you......".  The service uses traditional 1662 la
 nguage and gluten free wafers are available for those with a gluten allerg
 y.
GEO:-0.047919;52.141131
LOCATION:St Andrew - Wimpole
URL:https://www.achurchnearyou.com/church/13870/service-and-events/events/
 1007122/
END:VEVENT
BEGIN:VEVENT
SUMMARY:BCP Communion
DTSTART;TZID=Europe/London:20260621T093000
DTEND;TZID=Europe/London:20260621T103000
DTSTAMP:20260422T023508Z
UID:10071222026-06-21 09:30:00+01:00achurchnearyou
CATEGORIES:
DESCRIPTION:A Traditional 'Book of Common Prayer' service also called Holy
  Communion.  The service has songs or hymns\, readings from the bible\, pr
 ayers as well as the act of Communion when we remember the last supper of 
 Jesus with his disciples\, when Jesus said to them "Take\, eat: this is my
  body which is given for you......".  The service uses traditional 1662 la
 nguage and gluten free wafers are available for those with a gluten allerg
 y.
GEO:-0.047919;52.141131
LOCATION:St Andrew - Wimpole
URL:https://www.achurchnearyou.com/church/13870/service-and-events/events/
 1007122/
END:VEVENT
BEGIN:VEVENT
SUMMARY:BCP Communion
DTSTART;TZID=Europe/London:20260719T093000
DTEND;TZID=Europe/London:20260719T103000
DTSTAMP:20260422T023508Z
UID:10071222026-07-19 09:30:00+01:00achurchnearyou
CATEGORIES:
DESCRIPTION:A Traditional 'Book of Common Prayer' service also called Holy
  Communion.  The service has songs or hymns\, readings from the bible\, pr
 ayers as well as the act of Communion when we remember the last supper of 
 Jesus with his disciples\, when Jesus said to them "Take\, eat: this is my
  body which is given for you......".  The service uses traditional 1662 la
 nguage and gluten free wafers are available for those with a gluten allerg
 y.
GEO:-0.047919;52.141131
LOCATION:St Andrew - Wimpole
URL:https://www.achurchnearyou.com/church/13870/service-and-events/events/
 1007122/
END:VEVENT
BEGIN:VEVENT
SUMMARY:BCP Communion
DTSTART;TZID=Europe/London:20260816T093000
DTEND;TZID=Europe/London:20260816T103000
DTSTAMP:20260422T023508Z
UID:10071222026-08-16 09:30:00+01:00achurchnearyou
CATEGORIES:
DESCRIPTION:A Traditional 'Book of Common Prayer' service also called Holy
  Communion.  The service has songs or hymns\, readings from the bible\, pr
 ayers as well as the act of Communion when we remember the last supper of 
 Jesus with his disciples\, when Jesus said to them "Take\, eat: this is my
  body which is given for you......".  The service uses traditional 1662 la
 nguage and gluten free wafers are available for those with a gluten allerg
 y.
GEO:-0.047919;52.141131
LOCATION:St Andrew - Wimpole
URL:https://www.achurchnearyou.com/church/13870/service-and-events/events/
 1007122/
END:VEVENT
BEGIN:VEVENT
SUMMARY:BCP Communion
DTSTART;TZID=Europe/London:20260920T093000
DTEND;TZID=Europe/London:20260920T103000
DTSTAMP:20260422T023508Z
UID:10071222026-09-20 09:30:00+01:00achurchnearyou
CATEGORIES:
DESCRIPTION:A Traditional 'Book of Common Prayer' service also called Holy
  Communion.  The service has songs or hymns\, readings from the bible\, pr
 ayers as well as the act of Communion when we remember the last supper of 
 Jesus with his disciples\, when Jesus said to them "Take\, eat: this is my
  body which is given for you......".  The service uses traditional 1662 la
 nguage and gluten free wafers are available for those with a gluten allerg
 y.
GEO:-0.047919;52.141131
LOCATION:St Andrew - Wimpole
URL:https://www.achurchnearyou.com/church/13870/service-and-events/events/
 1007122/
END:VEVENT
BEGIN:VEVENT
SUMMARY:BCP Communion
DTSTART;TZID=Europe/London:20261018T093000
DTEND;TZID=Europe/London:20261018T103000
DTSTAMP:20260422T023508Z
UID:10071222026-10-18 09:30:00+01:00achurchnearyou
CATEGORIES:
DESCRIPTION:A Traditional 'Book of Common Prayer' service also called Holy
  Communion.  The service has songs or hymns\, readings from the bible\, pr
 ayers as well as the act of Communion when we remember the last supper of 
 Jesus with his disciples\, when Jesus said to them "Take\, eat: this is my
  body which is given for you......".  The service uses traditional 1662 la
 nguage and gluten free wafers are available for those with a gluten allerg
 y.
GEO:-0.047919;52.141131
LOCATION:St Andrew - Wimpole
URL:https://www.achurchnearyou.com/church/13870/service-and-events/events/
 1007122/
END:VEVENT
BEGIN:VEVENT
SUMMARY:BCP Communion
DTSTART;TZID=Europe/London:20261115T093000
DTEND;TZID=Europe/London:20261115T103000
DTSTAMP:20260422T023508Z
UID:10071222026-11-15 09:30:00+00:00achurchnearyou
CATEGORIES:
DESCRIPTION:A Traditional 'Book of Common Prayer' service also called Holy
  Communion.  The service has songs or hymns\, readings from the bible\, pr
 ayers as well as the act of Communion when we remember the last supper of 
 Jesus with his disciples\, when Jesus said to them "Take\, eat: this is my
  body which is given for you......".  The service uses traditional 1662 la
 nguage and gluten free wafers are available for those with a gluten allerg
 y.
GEO:-0.047919;52.141131
LOCATION:St Andrew - Wimpole
URL:https://www.achurchnearyou.com/church/13870/service-and-events/events/
 1007122/
END:VEVENT
BEGIN:VEVENT
SUMMARY:BCP Communion
DTSTART;TZID=Europe/London:20261220T093000
DTEND;TZID=Europe/London:20261220T103000
DTSTAMP:20260422T023508Z
UID:10071222026-12-20 09:30:00+00:00achurchnearyou
CATEGORIES:
DESCRIPTION:A Traditional 'Book of Common Prayer' service also called Holy
  Communion.  The service has songs or hymns\, readings from the bible\, pr
 ayers as well as the act of Communion when we remember the last supper of 
 Jesus with his disciples\, when Jesus said to them "Take\, eat: this is my
  body which is given for you......".  The service uses traditional 1662 la
 nguage and gluten free wafers are available for those with a gluten allerg
 y.
GEO:-0.047919;52.141131
LOCATION:St Andrew - Wimpole
URL:https://www.achurchnearyou.com/church/13870/service-and-events/events/
 1007122/
END:VEVENT
BEGIN:VEVENT
SUMMARY:BCP Communion
DTSTART;TZID=Europe/London:20270117T093000
DTEND;TZID=Europe/London:20270117T103000
DTSTAMP:20260422T023508Z
UID:10071222027-01-17 09:30:00+00:00achurchnearyou
CATEGORIES:
DESCRIPTION:A Traditional 'Book of Common Prayer' service also called Holy
  Communion.  The service has songs or hymns\, readings from the bible\, pr
 ayers as well as the act of Communion when we remember the last supper of 
 Jesus with his disciples\, when Jesus said to them "Take\, eat: this is my
  body which is given for you......".  The service uses traditional 1662 la
 nguage and gluten free wafers are available for those with a gluten allerg
 y.
GEO:-0.047919;52.141131
LOCATION:St Andrew - Wimpole
URL:https://www.achurchnearyou.com/church/13870/service-and-events/events/
 1007122/
END:VEVENT
BEGIN:VEVENT
SUMMARY:BCP Communion
DTSTART;TZID=Europe/London:20270221T093000
DTEND;TZID=Europe/London:20270221T103000
DTSTAMP:20260422T023508Z
UID:10071222027-02-21 09:30:00+00:00achurchnearyou
CATEGORIES:
DESCRIPTION:A Traditional 'Book of Common Prayer' service also called Holy
  Communion.  The service has songs or hymns\, readings from the bible\, pr
 ayers as well as the act of Communion when we remember the last supper of 
 Jesus with his disciples\, when Jesus said to them "Take\, eat: this is my
  body which is given for you......".  The service uses traditional 1662 la
 nguage and gluten free wafers are available for those with a gluten allerg
 y.
GEO:-0.047919;52.141131
LOCATION:St Andrew - Wimpole
URL:https://www.achurchnearyou.com/church/13870/service-and-events/events/
 1007122/
END:VEVENT
BEGIN:VEVENT
SUMMARY:BCP Communion
DTSTART;TZID=Europe/London:20270321T093000
DTEND;TZID=Europe/London:20270321T103000
DTSTAMP:20260422T023508Z
UID:10071222027-03-21 09:30:00+00:00achurchnearyou
CATEGORIES:
DESCRIPTION:A Traditional 'Book of Common Prayer' service also called Holy
  Communion.  The service has songs or hymns\, readings from the bible\, pr
 ayers as well as the act of Communion when we remember the last supper of 
 Jesus with his disciples\, when Jesus said to them "Take\, eat: this is my
  body which is given for you......".  The service uses traditional 1662 la
 nguage and gluten free wafers are available for those with a gluten allerg
 y.
GEO:-0.047919;52.141131
LOCATION:St Andrew - Wimpole
URL:https://www.achurchnearyou.com/church/13870/service-and-events/events/
 1007122/
END:VEVENT
BEGIN:VEVENT
SUMMARY:BCP Communion
DTSTART;TZID=Europe/London:20270418T093000
DTEND;TZID=Europe/London:20270418T103000
DTSTAMP:20260422T023508Z
UID:10071222027-04-18 09:30:00+01:00achurchnearyou
CATEGORIES:
DESCRIPTION:A Traditional 'Book of Common Prayer' service also called Holy
  Communion.  The service has songs or hymns\, readings from the bible\, pr
 ayers as well as the act of Communion when we remember the last supper of 
 Jesus with his disciples\, when Jesus said to them "Take\, eat: this is my
  body which is given for you......".  The service uses traditional 1662 la
 nguage and gluten free wafers are available for those with a gluten allerg
 y.
GEO:-0.047919;52.141131
LOCATION:St Andrew - Wimpole
URL:https://www.achurchnearyou.com/church/13870/service-and-events/events/
 1007122/
END:VEVENT
END:VCALENDAR
