BEGIN:VCALENDAR
VERSION:2.0
PRODID:-//achurchnearyou.com//eventfeed//EN
CALSCALE:GREGORIAN
METHOD:PUBLISH
X-WR-TIMEZONE:UTC
BEGIN:VEVENT
SUMMARY:Ash Wednesday service
DTSTART:20250305T100000Z
DTEND:20250305T110000Z
DTSTAMP:20260420T040309Z
UID:11648482025-03-05 10:00:00+00:00achurchnearyou
CATEGORIES:
DESCRIPTION:A service for Ash Wednesday with traditional ashing
LOCATION:St Mary’s Centre
URL:https://www.achurchnearyou.com/church/13879/service-and-events/events/
 1164848/
END:VEVENT
END:VCALENDAR
