BEGIN:VCALENDAR
VERSION:2.0
PRODID:-//achurchnearyou.com//eventfeed//EN
CALSCALE:GREGORIAN
METHOD:PUBLISH
X-WR-TIMEZONE:UTC
BEGIN:VEVENT
SUMMARY:Pet service
DTSTART:20250907T084500Z
DTEND:20250907T094500Z
DTSTAMP:20260419T172027Z
UID:12208882025-09-07 08:45:00+00:00achurchnearyou
CATEGORIES:
DESCRIPTION:A service to give thanks for our pets - bring them along with 
 you\, for a blessing
GEO:-0.121102;52.331955
LOCATION:St Mary The Virgin
URL:https://www.achurchnearyou.com/church/13879/service-and-events/events/
 1220888/
END:VEVENT
END:VCALENDAR
