BEGIN:VCALENDAR
VERSION:2.0
PRODID:-//achurchnearyou.com//eventfeed//EN
CALSCALE:GREGORIAN
METHOD:PUBLISH
X-WR-TIMEZONE:UTC
BEGIN:VEVENT
SUMMARY:Morning Prayer
DTSTART;TZID=Europe/London:20240407T100000
DTEND;TZID=Europe/London:20240407T110000
DTSTAMP:20260420T093642Z
UID:10839322024-04-07 10:00:00+01:00achurchnearyou
CATEGORIES:
DESCRIPTION:Traditional Morning Prayer 1662 service.
GEO:-0.801748;53.123131
LOCATION:St Giles\, Holme
URL:http://www.easttrentchurches.org.uk/community/east-trent-churches-7910
 /services1/
END:VEVENT
BEGIN:VEVENT
SUMMARY:Morning Prayer
DTSTART;TZID=Europe/London:20240505T100000
DTEND;TZID=Europe/London:20240505T110000
DTSTAMP:20260420T093642Z
UID:10839322024-05-05 10:00:00+01:00achurchnearyou
CATEGORIES:
DESCRIPTION:Traditional Morning Prayer 1662 service.
GEO:-0.801748;53.123131
LOCATION:St Giles\, Holme
URL:http://www.easttrentchurches.org.uk/community/east-trent-churches-7910
 /services1/
END:VEVENT
BEGIN:VEVENT
SUMMARY:Morning Prayer
DTSTART;TZID=Europe/London:20240707T100000
DTEND;TZID=Europe/London:20240707T110000
DTSTAMP:20260420T093642Z
UID:10839322024-07-07 10:00:00+01:00achurchnearyou
CATEGORIES:
DESCRIPTION:Traditional Morning Prayer 1662 service.
GEO:-0.801748;53.123131
LOCATION:St Giles\, Holme
URL:http://www.easttrentchurches.org.uk/community/east-trent-churches-7910
 /services1/
END:VEVENT
BEGIN:VEVENT
SUMMARY:Morning Prayer
DTSTART;TZID=Europe/London:20240804T100000
DTEND;TZID=Europe/London:20240804T110000
DTSTAMP:20260420T093642Z
UID:10839322024-08-04 10:00:00+01:00achurchnearyou
CATEGORIES:
DESCRIPTION:Traditional Morning Prayer 1662 service.
GEO:-0.801748;53.123131
LOCATION:St Giles\, Holme
URL:http://www.easttrentchurches.org.uk/community/east-trent-churches-7910
 /services1/
END:VEVENT
BEGIN:VEVENT
SUMMARY:Morning Prayer
DTSTART;TZID=Europe/London:20241006T100000
DTEND;TZID=Europe/London:20241006T110000
DTSTAMP:20260420T093642Z
UID:10839322024-10-06 10:00:00+01:00achurchnearyou
CATEGORIES:
DESCRIPTION:Traditional Morning Prayer 1662 service.
GEO:-0.801748;53.123131
LOCATION:St Giles\, Holme
URL:http://www.easttrentchurches.org.uk/community/east-trent-churches-7910
 /services1/
END:VEVENT
BEGIN:VEVENT
SUMMARY:Morning Prayer
DTSTART;TZID=Europe/London:20241103T100000
DTEND;TZID=Europe/London:20241103T110000
DTSTAMP:20260420T093642Z
UID:10839322024-11-03 10:00:00+00:00achurchnearyou
CATEGORIES:
DESCRIPTION:Traditional Morning Prayer 1662 service.
GEO:-0.801748;53.123131
LOCATION:St Giles\, Holme
URL:http://www.easttrentchurches.org.uk/community/east-trent-churches-7910
 /services1/
END:VEVENT
BEGIN:VEVENT
SUMMARY:Morning Prayer
DTSTART;TZID=Europe/London:20250406T100000
DTEND;TZID=Europe/London:20250406T110000
DTSTAMP:20260420T093642Z
UID:10839322025-04-06 10:00:00+01:00achurchnearyou
CATEGORIES:
DESCRIPTION:Traditional Morning Prayer 1662 service.
GEO:-0.801748;53.123131
LOCATION:St Giles\, Holme
URL:http://www.easttrentchurches.org.uk/community/east-trent-churches-7910
 /services1/
END:VEVENT
BEGIN:VEVENT
SUMMARY:Morning Prayer
DTSTART;TZID=Europe/London:20250504T100000
DTEND;TZID=Europe/London:20250504T110000
DTSTAMP:20260420T093642Z
UID:10839322025-05-04 10:00:00+01:00achurchnearyou
CATEGORIES:
DESCRIPTION:Traditional Morning Prayer 1662 service.
GEO:-0.801748;53.123131
LOCATION:St Giles\, Holme
URL:http://www.easttrentchurches.org.uk/community/east-trent-churches-7910
 /services1/
END:VEVENT
BEGIN:VEVENT
SUMMARY:Morning Prayer
DTSTART;TZID=Europe/London:20250706T100000
DTEND;TZID=Europe/London:20250706T110000
DTSTAMP:20260420T093642Z
UID:10839322025-07-06 10:00:00+01:00achurchnearyou
CATEGORIES:
DESCRIPTION:Traditional Morning Prayer 1662 service.
GEO:-0.801748;53.123131
LOCATION:St Giles\, Holme
URL:http://www.easttrentchurches.org.uk/community/east-trent-churches-7910
 /services1/
END:VEVENT
BEGIN:VEVENT
SUMMARY:Morning Prayer
DTSTART;TZID=Europe/London:20250803T100000
DTEND;TZID=Europe/London:20250803T110000
DTSTAMP:20260420T093642Z
UID:10839322025-08-03 10:00:00+01:00achurchnearyou
CATEGORIES:
DESCRIPTION:Traditional Morning Prayer 1662 service.
GEO:-0.801748;53.123131
LOCATION:St Giles\, Holme
URL:http://www.easttrentchurches.org.uk/community/east-trent-churches-7910
 /services1/
END:VEVENT
BEGIN:VEVENT
SUMMARY:Morning Prayer
DTSTART;TZID=Europe/London:20251005T100000
DTEND;TZID=Europe/London:20251005T110000
DTSTAMP:20260420T093642Z
UID:10839322025-10-05 10:00:00+01:00achurchnearyou
CATEGORIES:
DESCRIPTION:Traditional Morning Prayer 1662 service.
GEO:-0.801748;53.123131
LOCATION:St Giles\, Holme
URL:http://www.easttrentchurches.org.uk/community/east-trent-churches-7910
 /services1/
END:VEVENT
BEGIN:VEVENT
SUMMARY:Morning Prayer
DTSTART;TZID=Europe/London:20251102T100000
DTEND;TZID=Europe/London:20251102T110000
DTSTAMP:20260420T093642Z
UID:10839322025-11-02 10:00:00+00:00achurchnearyou
CATEGORIES:
DESCRIPTION:Traditional Morning Prayer 1662 service.
GEO:-0.801748;53.123131
LOCATION:St Giles\, Holme
URL:http://www.easttrentchurches.org.uk/community/east-trent-churches-7910
 /services1/
END:VEVENT
BEGIN:VEVENT
SUMMARY:Morning Prayer
DTSTART;TZID=Europe/London:20260405T100000
DTEND;TZID=Europe/London:20260405T110000
DTSTAMP:20260420T093642Z
UID:10839322026-04-05 10:00:00+01:00achurchnearyou
CATEGORIES:
DESCRIPTION:Traditional Morning Prayer 1662 service.
GEO:-0.801748;53.123131
LOCATION:St Giles\, Holme
URL:http://www.easttrentchurches.org.uk/community/east-trent-churches-7910
 /services1/
END:VEVENT
BEGIN:VEVENT
SUMMARY:Morning Prayer
DTSTART;TZID=Europe/London:20260503T100000
DTEND;TZID=Europe/London:20260503T110000
DTSTAMP:20260420T093642Z
UID:10839322026-05-03 10:00:00+01:00achurchnearyou
CATEGORIES:
DESCRIPTION:Traditional Morning Prayer 1662 service.
GEO:-0.801748;53.123131
LOCATION:St Giles\, Holme
URL:http://www.easttrentchurches.org.uk/community/east-trent-churches-7910
 /services1/
END:VEVENT
BEGIN:VEVENT
SUMMARY:Morning Prayer
DTSTART;TZID=Europe/London:20260705T100000
DTEND;TZID=Europe/London:20260705T110000
DTSTAMP:20260420T093642Z
UID:10839322026-07-05 10:00:00+01:00achurchnearyou
CATEGORIES:
DESCRIPTION:Traditional Morning Prayer 1662 service.
GEO:-0.801748;53.123131
LOCATION:St Giles\, Holme
URL:http://www.easttrentchurches.org.uk/community/east-trent-churches-7910
 /services1/
END:VEVENT
BEGIN:VEVENT
SUMMARY:Morning Prayer
DTSTART;TZID=Europe/London:20260802T100000
DTEND;TZID=Europe/London:20260802T110000
DTSTAMP:20260420T093642Z
UID:10839322026-08-02 10:00:00+01:00achurchnearyou
CATEGORIES:
DESCRIPTION:Traditional Morning Prayer 1662 service.
GEO:-0.801748;53.123131
LOCATION:St Giles\, Holme
URL:http://www.easttrentchurches.org.uk/community/east-trent-churches-7910
 /services1/
END:VEVENT
BEGIN:VEVENT
SUMMARY:Morning Prayer
DTSTART;TZID=Europe/London:20261004T100000
DTEND;TZID=Europe/London:20261004T110000
DTSTAMP:20260420T093642Z
UID:10839322026-10-04 10:00:00+01:00achurchnearyou
CATEGORIES:
DESCRIPTION:Traditional Morning Prayer 1662 service.
GEO:-0.801748;53.123131
LOCATION:St Giles\, Holme
URL:http://www.easttrentchurches.org.uk/community/east-trent-churches-7910
 /services1/
END:VEVENT
BEGIN:VEVENT
SUMMARY:Morning Prayer
DTSTART;TZID=Europe/London:20261101T100000
DTEND;TZID=Europe/London:20261101T110000
DTSTAMP:20260420T093642Z
UID:10839322026-11-01 10:00:00+00:00achurchnearyou
CATEGORIES:
DESCRIPTION:Traditional Morning Prayer 1662 service.
GEO:-0.801748;53.123131
LOCATION:St Giles\, Holme
URL:http://www.easttrentchurches.org.uk/community/east-trent-churches-7910
 /services1/
END:VEVENT
BEGIN:VEVENT
SUMMARY:Morning Prayer
DTSTART;TZID=Europe/London:20270404T100000
DTEND;TZID=Europe/London:20270404T110000
DTSTAMP:20260420T093642Z
UID:10839322027-04-04 10:00:00+01:00achurchnearyou
CATEGORIES:
DESCRIPTION:Traditional Morning Prayer 1662 service.
GEO:-0.801748;53.123131
LOCATION:St Giles\, Holme
URL:http://www.easttrentchurches.org.uk/community/east-trent-churches-7910
 /services1/
END:VEVENT
END:VCALENDAR
