BEGIN:VCALENDAR
VERSION:2.0
PRODID:-//achurchnearyou.com//eventfeed//EN
CALSCALE:GREGORIAN
METHOD:PUBLISH
X-WR-TIMEZONE:UTC
BEGIN:VEVENT
SUMMARY:Benefice Morning Praise
DTSTART:20250629T090000Z
DTEND:20250629T100000Z
DTSTAMP:20260422T195210Z
UID:12000772025-06-29 09:00:00+00:00achurchnearyou
CATEGORIES:
DESCRIPTION:On fifth Sundays Holy Trinity and St Mary’s join for worship
 . On June 29th the service will be Morning Praise at St Mary’s Church st
 arting at 10am
LOCATION:St Mary's
URL:https://www.achurchnearyou.com/church/13944/service-and-events/events/
 1200077/
END:VEVENT
END:VCALENDAR
