BEGIN:VCALENDAR
VERSION:2.0
PRODID:-//achurchnearyou.com//eventfeed//EN
CALSCALE:GREGORIAN
METHOD:PUBLISH
X-WR-TIMEZONE:UTC
BEGIN:VEVENT
SUMMARY:GOOD FRIDAY WALK OF WITNESS
DTSTART:20260403T091500Z
DTEND:20260403T101500Z
DTSTAMP:20260422T020847Z
UID:13207312026-04-03 09:15:00+00:00achurchnearyou
CATEGORIES:
DESCRIPTION:The Walk leaves Holy Trinity Church and makes its way to St Lu
 ke’s\, Orton Malborne.
GEO:-0.277809;52.55412
LOCATION:Holy Trinity
URL:https://www.achurchnearyou.com/church/13944/service-and-events/events/
 1320731/
END:VEVENT
END:VCALENDAR
