BEGIN:VCALENDAR
VERSION:2.0
PRODID:-//achurchnearyou.com//eventfeed//EN
CALSCALE:GREGORIAN
METHOD:PUBLISH
X-WR-TIMEZONE:UTC
BEGIN:VEVENT
SUMMARY:BCP Communion
DTSTART;TZID=Europe/London:20260405T090000
DTEND;TZID=Europe/London:20260405T094500
DTSTAMP:20260423T223452Z
UID:8019331775376000.0achurchnearyou
CATEGORIES:
DESCRIPTION:Every 1st Sunday.
GEO:0.188452;52.417412
LOCATION:St Peters Coveney
URL:https://www.achurchnearyou.com/church/13955/service-and-events/events/
 801933/
END:VEVENT
BEGIN:VEVENT
SUMMARY:Sunday Morning Worship
DTSTART;TZID=Europe/London:20260412T100000
DTEND;TZID=Europe/London:20260412T104500
DTSTAMP:20260423T223452Z
UID:5797391775984400.0achurchnearyou
CATEGORIES:
DESCRIPTION:A Service of the Word held in Church on the 2nd and 4th Sunday
 ’s of each month\, followed by tea & biscuits and a chat. All are welcom
 e.
GEO:0.188452;52.417412
LOCATION:St Peters Coveney
URL:https://www.achurchnearyou.com/church/13955/service-and-events/events/
 579739/
END:VEVENT
BEGIN:VEVENT
SUMMARY:Forest Church
DTSTART;TZID=Europe/London:20260419T150000
DTEND;TZID=Europe/London:20260419T160000
DTSTAMP:20260423T223452Z
UID:9171621776607200.0achurchnearyou
CATEGORIES:
DESCRIPTION:Meet in John's Wood in Coveney. A short very informal activity
 -based service for all ages. Especially for those unused to normal\, forma
 l church services or who want something a bit different. Children/Vulnerab
 le adults must be accompanied by a parent or carer. Stay for hot drinks an
 d refreshments. Please wear appropriate clothing for outdoors activities
GEO:0.188452;52.417412
LOCATION:St Peters Coveney
URL:https://www.achurchnearyou.com/church/13955/service-and-events/events/
 917162/
END:VEVENT
BEGIN:VEVENT
SUMMARY:Sunday Morning Worship
DTSTART;TZID=Europe/London:20260426T100000
DTEND;TZID=Europe/London:20260426T104500
DTSTAMP:20260423T223452Z
UID:5797391777194000.0achurchnearyou
CATEGORIES:
DESCRIPTION:A Service of the Word held in Church on the 2nd and 4th Sunday
 ’s of each month\, followed by tea & biscuits and a chat. All are welcom
 e.
GEO:0.188452;52.417412
LOCATION:St Peters Coveney
URL:https://www.achurchnearyou.com/church/13955/service-and-events/events/
 579739/
END:VEVENT
BEGIN:VEVENT
SUMMARY:BCP Communion
DTSTART;TZID=Europe/London:20260503T090000
DTEND;TZID=Europe/London:20260503T094500
DTSTAMP:20260423T223452Z
UID:8019331777795200.0achurchnearyou
CATEGORIES:
DESCRIPTION:Every 1st Sunday.
GEO:0.188452;52.417412
LOCATION:St Peters Coveney
URL:https://www.achurchnearyou.com/church/13955/service-and-events/events/
 801933/
END:VEVENT
BEGIN:VEVENT
SUMMARY:Sunday Morning Worship
DTSTART;TZID=Europe/London:20260510T100000
DTEND;TZID=Europe/London:20260510T104500
DTSTAMP:20260423T223452Z
UID:5797391778403600.0achurchnearyou
CATEGORIES:
DESCRIPTION:A Service of the Word held in Church on the 2nd and 4th Sunday
 ’s of each month\, followed by tea & biscuits and a chat. All are welcom
 e.
GEO:0.188452;52.417412
LOCATION:St Peters Coveney
URL:https://www.achurchnearyou.com/church/13955/service-and-events/events/
 579739/
END:VEVENT
BEGIN:VEVENT
SUMMARY:Forest Church
DTSTART;TZID=Europe/London:20260517T150000
DTEND;TZID=Europe/London:20260517T160000
DTSTAMP:20260423T223452Z
UID:9171621779026400.0achurchnearyou
CATEGORIES:
DESCRIPTION:Meet in John's Wood in Coveney. A short very informal activity
 -based service for all ages. Especially for those unused to normal\, forma
 l church services or who want something a bit different. Children/Vulnerab
 le adults must be accompanied by a parent or carer. Stay for hot drinks an
 d refreshments. Please wear appropriate clothing for outdoors activities
GEO:0.188452;52.417412
LOCATION:St Peters Coveney
URL:https://www.achurchnearyou.com/church/13955/service-and-events/events/
 917162/
END:VEVENT
BEGIN:VEVENT
SUMMARY:Sunday Morning Worship
DTSTART;TZID=Europe/London:20260524T100000
DTEND;TZID=Europe/London:20260524T104500
DTSTAMP:20260423T223452Z
UID:5797391779613200.0achurchnearyou
CATEGORIES:
DESCRIPTION:A Service of the Word held in Church on the 2nd and 4th Sunday
 ’s of each month\, followed by tea & biscuits and a chat. All are welcom
 e.
GEO:0.188452;52.417412
LOCATION:St Peters Coveney
URL:https://www.achurchnearyou.com/church/13955/service-and-events/events/
 579739/
END:VEVENT
BEGIN:VEVENT
SUMMARY:BCP Communion
DTSTART;TZID=Europe/London:20260607T090000
DTEND;TZID=Europe/London:20260607T094500
DTSTAMP:20260423T223452Z
UID:8019331780819200.0achurchnearyou
CATEGORIES:
DESCRIPTION:Every 1st Sunday.
GEO:0.188452;52.417412
LOCATION:St Peters Coveney
URL:https://www.achurchnearyou.com/church/13955/service-and-events/events/
 801933/
END:VEVENT
BEGIN:VEVENT
SUMMARY:Sunday Morning Worship
DTSTART;TZID=Europe/London:20260614T100000
DTEND;TZID=Europe/London:20260614T104500
DTSTAMP:20260423T223452Z
UID:5797391781427600.0achurchnearyou
CATEGORIES:
DESCRIPTION:A Service of the Word held in Church on the 2nd and 4th Sunday
 ’s of each month\, followed by tea & biscuits and a chat. All are welcom
 e.
GEO:0.188452;52.417412
LOCATION:St Peters Coveney
URL:https://www.achurchnearyou.com/church/13955/service-and-events/events/
 579739/
END:VEVENT
BEGIN:VEVENT
SUMMARY:Forest Church
DTSTART;TZID=Europe/London:20260621T150000
DTEND;TZID=Europe/London:20260621T160000
DTSTAMP:20260423T223452Z
UID:9171621782050400.0achurchnearyou
CATEGORIES:
DESCRIPTION:Meet in John's Wood in Coveney. A short very informal activity
 -based service for all ages. Especially for those unused to normal\, forma
 l church services or who want something a bit different. Children/Vulnerab
 le adults must be accompanied by a parent or carer. Stay for hot drinks an
 d refreshments. Please wear appropriate clothing for outdoors activities
GEO:0.188452;52.417412
LOCATION:St Peters Coveney
URL:https://www.achurchnearyou.com/church/13955/service-and-events/events/
 917162/
END:VEVENT
BEGIN:VEVENT
SUMMARY:Sunday Morning Worship
DTSTART;TZID=Europe/London:20260628T100000
DTEND;TZID=Europe/London:20260628T104500
DTSTAMP:20260423T223452Z
UID:5797391782637200.0achurchnearyou
CATEGORIES:
DESCRIPTION:A Service of the Word held in Church on the 2nd and 4th Sunday
 ’s of each month\, followed by tea & biscuits and a chat. All are welcom
 e.
GEO:0.188452;52.417412
LOCATION:St Peters Coveney
URL:https://www.achurchnearyou.com/church/13955/service-and-events/events/
 579739/
END:VEVENT
BEGIN:VEVENT
SUMMARY:BCP Communion
DTSTART;TZID=Europe/London:20260705T090000
DTEND;TZID=Europe/London:20260705T094500
DTSTAMP:20260423T223452Z
UID:8019331783238400.0achurchnearyou
CATEGORIES:
DESCRIPTION:Every 1st Sunday.
GEO:0.188452;52.417412
LOCATION:St Peters Coveney
URL:https://www.achurchnearyou.com/church/13955/service-and-events/events/
 801933/
END:VEVENT
BEGIN:VEVENT
SUMMARY:Sunday Morning Worship
DTSTART;TZID=Europe/London:20260712T100000
DTEND;TZID=Europe/London:20260712T104500
DTSTAMP:20260423T223452Z
UID:5797391783846800.0achurchnearyou
CATEGORIES:
DESCRIPTION:A Service of the Word held in Church on the 2nd and 4th Sunday
 ’s of each month\, followed by tea & biscuits and a chat. All are welcom
 e.
GEO:0.188452;52.417412
LOCATION:St Peters Coveney
URL:https://www.achurchnearyou.com/church/13955/service-and-events/events/
 579739/
END:VEVENT
BEGIN:VEVENT
SUMMARY:Forest Church
DTSTART;TZID=Europe/London:20260719T150000
DTEND;TZID=Europe/London:20260719T160000
DTSTAMP:20260423T223452Z
UID:9171621784469600.0achurchnearyou
CATEGORIES:
DESCRIPTION:Meet in John's Wood in Coveney. A short very informal activity
 -based service for all ages. Especially for those unused to normal\, forma
 l church services or who want something a bit different. Children/Vulnerab
 le adults must be accompanied by a parent or carer. Stay for hot drinks an
 d refreshments. Please wear appropriate clothing for outdoors activities
GEO:0.188452;52.417412
LOCATION:St Peters Coveney
URL:https://www.achurchnearyou.com/church/13955/service-and-events/events/
 917162/
END:VEVENT
BEGIN:VEVENT
SUMMARY:Sunday Morning Worship
DTSTART;TZID=Europe/London:20260726T100000
DTEND;TZID=Europe/London:20260726T104500
DTSTAMP:20260423T223452Z
UID:5797391785056400.0achurchnearyou
CATEGORIES:
DESCRIPTION:A Service of the Word held in Church on the 2nd and 4th Sunday
 ’s of each month\, followed by tea & biscuits and a chat. All are welcom
 e.
GEO:0.188452;52.417412
LOCATION:St Peters Coveney
URL:https://www.achurchnearyou.com/church/13955/service-and-events/events/
 579739/
END:VEVENT
BEGIN:VEVENT
SUMMARY:BCP Communion
DTSTART;TZID=Europe/London:20260802T090000
DTEND;TZID=Europe/London:20260802T094500
DTSTAMP:20260423T223452Z
UID:8019331785657600.0achurchnearyou
CATEGORIES:
DESCRIPTION:Every 1st Sunday.
GEO:0.188452;52.417412
LOCATION:St Peters Coveney
URL:https://www.achurchnearyou.com/church/13955/service-and-events/events/
 801933/
END:VEVENT
BEGIN:VEVENT
SUMMARY:Sunday Morning Worship
DTSTART;TZID=Europe/London:20260809T100000
DTEND;TZID=Europe/London:20260809T104500
DTSTAMP:20260423T223452Z
UID:5797391786266000.0achurchnearyou
CATEGORIES:
DESCRIPTION:A Service of the Word held in Church on the 2nd and 4th Sunday
 ’s of each month\, followed by tea & biscuits and a chat. All are welcom
 e.
GEO:0.188452;52.417412
LOCATION:St Peters Coveney
URL:https://www.achurchnearyou.com/church/13955/service-and-events/events/
 579739/
END:VEVENT
BEGIN:VEVENT
SUMMARY:Forest Church
DTSTART;TZID=Europe/London:20260816T150000
DTEND;TZID=Europe/London:20260816T160000
DTSTAMP:20260423T223452Z
UID:9171621786888800.0achurchnearyou
CATEGORIES:
DESCRIPTION:Meet in John's Wood in Coveney. A short very informal activity
 -based service for all ages. Especially for those unused to normal\, forma
 l church services or who want something a bit different. Children/Vulnerab
 le adults must be accompanied by a parent or carer. Stay for hot drinks an
 d refreshments. Please wear appropriate clothing for outdoors activities
GEO:0.188452;52.417412
LOCATION:St Peters Coveney
URL:https://www.achurchnearyou.com/church/13955/service-and-events/events/
 917162/
END:VEVENT
BEGIN:VEVENT
SUMMARY:Sunday Morning Worship
DTSTART;TZID=Europe/London:20260823T100000
DTEND;TZID=Europe/London:20260823T104500
DTSTAMP:20260423T223452Z
UID:5797391787475600.0achurchnearyou
CATEGORIES:
DESCRIPTION:A Service of the Word held in Church on the 2nd and 4th Sunday
 ’s of each month\, followed by tea & biscuits and a chat. All are welcom
 e.
GEO:0.188452;52.417412
LOCATION:St Peters Coveney
URL:https://www.achurchnearyou.com/church/13955/service-and-events/events/
 579739/
END:VEVENT
BEGIN:VEVENT
SUMMARY:BCP Communion
DTSTART;TZID=Europe/London:20260906T090000
DTEND;TZID=Europe/London:20260906T094500
DTSTAMP:20260423T223452Z
UID:8019331788681600.0achurchnearyou
CATEGORIES:
DESCRIPTION:Every 1st Sunday.
GEO:0.188452;52.417412
LOCATION:St Peters Coveney
URL:https://www.achurchnearyou.com/church/13955/service-and-events/events/
 801933/
END:VEVENT
BEGIN:VEVENT
SUMMARY:Sunday Morning Worship
DTSTART;TZID=Europe/London:20260913T100000
DTEND;TZID=Europe/London:20260913T104500
DTSTAMP:20260423T223452Z
UID:5797391789290000.0achurchnearyou
CATEGORIES:
DESCRIPTION:A Service of the Word held in Church on the 2nd and 4th Sunday
 ’s of each month\, followed by tea & biscuits and a chat. All are welcom
 e.
GEO:0.188452;52.417412
LOCATION:St Peters Coveney
URL:https://www.achurchnearyou.com/church/13955/service-and-events/events/
 579739/
END:VEVENT
BEGIN:VEVENT
SUMMARY:Forest Church
DTSTART;TZID=Europe/London:20260920T150000
DTEND;TZID=Europe/London:20260920T160000
DTSTAMP:20260423T223452Z
UID:9171621789912800.0achurchnearyou
CATEGORIES:
DESCRIPTION:Meet in John's Wood in Coveney. A short very informal activity
 -based service for all ages. Especially for those unused to normal\, forma
 l church services or who want something a bit different. Children/Vulnerab
 le adults must be accompanied by a parent or carer. Stay for hot drinks an
 d refreshments. Please wear appropriate clothing for outdoors activities
GEO:0.188452;52.417412
LOCATION:St Peters Coveney
URL:https://www.achurchnearyou.com/church/13955/service-and-events/events/
 917162/
END:VEVENT
BEGIN:VEVENT
SUMMARY:Sunday Morning Worship
DTSTART;TZID=Europe/London:20260927T100000
DTEND;TZID=Europe/London:20260927T104500
DTSTAMP:20260423T223452Z
UID:5797391790499600.0achurchnearyou
CATEGORIES:
DESCRIPTION:A Service of the Word held in Church on the 2nd and 4th Sunday
 ’s of each month\, followed by tea & biscuits and a chat. All are welcom
 e.
GEO:0.188452;52.417412
LOCATION:St Peters Coveney
URL:https://www.achurchnearyou.com/church/13955/service-and-events/events/
 579739/
END:VEVENT
END:VCALENDAR
