BEGIN:VCALENDAR
VERSION:2.0
PRODID:-//achurchnearyou.com//eventfeed//EN
CALSCALE:GREGORIAN
METHOD:PUBLISH
X-WR-TIMEZONE:UTC
BEGIN:VEVENT
SUMMARY:MAUNDY THURSDAY Holy Communion
DTSTART:20250417T180000Z
DTEND:20250417T190000Z
DTSTAMP:20260425T144823Z
UID:11870332025-04-17 18:00:00+00:00achurchnearyou
CATEGORIES:
DESCRIPTION:Preacher Revd Alan Partridge
GEO:0.243882;52.434238
LOCATION:St Leonard's\, Little Downham
URL:https://www.achurchnearyou.com/church/13956/service-and-events/events/
 1187033/
END:VEVENT
END:VCALENDAR
