BEGIN:VCALENDAR
VERSION:2.0
PRODID:-//achurchnearyou.com//eventfeed//EN
CALSCALE:GREGORIAN
METHOD:PUBLISH
X-WR-TIMEZONE:UTC
BEGIN:VEVENT
SUMMARY:Coffee Morning
DTSTART:20251201T103000Z
DTEND:20251201T120000Z
DTSTAMP:20260424T163654Z
UID:12552572025-12-01 10:30:00+00:00achurchnearyou
CATEGORIES:
DESCRIPTION:Come and join us in the church for a cuppa and friendly chat! 
  All warmly welcome! Free\, though donations appreciated.
GEO:0.243882;52.434238
LOCATION:St Leonard's\, Little Downham
URL:https://www.achurchnearyou.com/church/13956/service-and-events/events/
 1255257/
END:VEVENT
END:VCALENDAR
