BEGIN:VCALENDAR
VERSION:2.0
PRODID:-//achurchnearyou.com//eventfeed//EN
CALSCALE:GREGORIAN
METHOD:PUBLISH
X-WR-TIMEZONE:UTC
BEGIN:VEVENT
SUMMARY:Focus on The Arthur Rank Hospice Charity
DTSTART:20260201T110000Z
DTEND:20260201T120000Z
DTSTAMP:20260424T073916Z
UID:12852592026-02-01 11:00:00+00:00achurchnearyou
CATEGORIES:
DESCRIPTION:During our worship on Sunday 1 February\, we will be welcoming
  a speaker from the Arthur Rank Hospice\, our chosen charity for the next 
 6 months.  Donations at this service\, and at our coffee morning on 2 Febr
 uary\, will go to the charity.
GEO:0.243882;52.434238
LOCATION:St Leonard's\, Little Downham
URL:https://www.achurchnearyou.com/church/13956/service-and-events/events/
 1285259/
END:VEVENT
END:VCALENDAR
