BEGIN:VCALENDAR
VERSION:2.0
PRODID:-//achurchnearyou.com//eventfeed//EN
CALSCALE:GREGORIAN
METHOD:PUBLISH
X-WR-TIMEZONE:UTC
BEGIN:VEVENT
SUMMARY:Quiz Night!
DTSTART:20260328T190000Z
DTEND:20260328T220000Z
DTSTAMP:20260424T074651Z
UID:12952262026-03-28 19:00:00+00:00achurchnearyou
CATEGORIES:
DESCRIPTION:Teams of 6 (max.)\, £3 per person\, payable on the door (CASH
  ONLY). \n\nBook in advance\, to guarantee your place:  Shirley Jenkins 07
 904 381914 / shirleyjenkins545@gmail.com
LOCATION:Community Rooms
URL:https://www.achurchnearyou.com/church/13956/service-and-events/events/
 1295226/
END:VEVENT
END:VCALENDAR
