BEGIN:VCALENDAR
VERSION:2.0
PRODID:-//achurchnearyou.com//eventfeed//EN
CALSCALE:GREGORIAN
METHOD:PUBLISH
X-WR-TIMEZONE:UTC
BEGIN:VEVENT
SUMMARY:Christmas Eve Family Christingle Service with Carols
DTSTART:20251224T163000Z
DTEND:20251224T171500Z
DTSTAMP:20260422T013052Z
UID:10176542025-12-24 16:30:00+00:00achurchnearyou
CATEGORIES:
DESCRIPTION:The popular all-age Service of 'Christingle' ('Christ Light') 
 with Carols.
GEO:0.380228;52.603544
LOCATION:St Edmund's
URL:https://www.achurchnearyou.com/church/13983/service-and-events/events/
 1017654/
END:VEVENT
END:VCALENDAR
