BEGIN:VCALENDAR
VERSION:2.0
PRODID:-//achurchnearyou.com//eventfeed//EN
CALSCALE:GREGORIAN
METHOD:PUBLISH
X-WR-TIMEZONE:UTC
BEGIN:VEVENT
SUMMARY:Candlemas — The Presentation of the Lord in the Temple
DTSTART:20260201T103000Z
DTEND:20260201T113000Z
DTSTAMP:20260421T212859Z
UID:10245272026-02-01 10:30:00+00:00achurchnearyou
CATEGORIES:
DESCRIPTION:By tradition\, the concluding feast of Christmas.\nOn the 40th
  day after his birth\, Mary and Joseph present the infant Jesus to God in 
 the Temple at Jerusalem\, the centre of Jewish worship. The elderly Simeon
  and Anna greet them\, and identify this Child as the long-expected Saviou
 r.\nThis is celebrated by the special Blessing and Entrance Procession wit
 h candles to begin the Mass.\nCoffee\, Tea\, etc. afterwards in the Church
  Hall.
GEO:0.380228;52.603544
LOCATION:St Edmund's
URL:https://www.achurchnearyou.com/church/13983/service-and-events/events/
 1024527/
END:VEVENT
END:VCALENDAR
