BEGIN:VCALENDAR
VERSION:2.0
PRODID:-//achurchnearyou.com//eventfeed//EN
CALSCALE:GREGORIAN
METHOD:PUBLISH
X-WR-TIMEZONE:UTC
BEGIN:VEVENT
SUMMARY:Third Sunday of Advent
DTSTART:20251214T103000Z
DTEND:20251214T113000Z
DTSTAMP:20260422T012937Z
UID:8925392025-12-14 10:30:00+00:00achurchnearyou
CATEGORIES:
DESCRIPTION:Parish Mass on the Third Sunday of Advent\, with the blessing 
 of Bambinelli\, the infant Jesus figure from our home Nativity Scenes. Ple
 ase bring yours.
GEO:0.380228;52.603544
LOCATION:St Edmund's
URL:https://www.achurchnearyou.com/church/13983/service-and-events/events/
 892539/
END:VEVENT
END:VCALENDAR
