BEGIN:VCALENDAR
VERSION:2.0
PRODID:-//achurchnearyou.com//eventfeed//EN
CALSCALE:GREGORIAN
METHOD:PUBLISH
X-WR-TIMEZONE:UTC
BEGIN:VEVENT
SUMMARY:Stations of the Cross
DTSTART:20260403T110000Z
DTEND:20260403T140000Z
DTSTAMP:20260420T222443Z
UID:13182832026-04-03 11:00:00+00:00achurchnearyou
CATEGORIES:
DESCRIPTION:This Good Friday Service will take place in the church from 12
  noon to 3 pm. People can arrive and leave at any point during the service
GEO:0.3618333;52.7002246
LOCATION:St Germans w St Mary The Virgin
URL:https://www.achurchnearyou.com/church/14011/service-and-events/events/
 1318283/
END:VEVENT
END:VCALENDAR
