BEGIN:VCALENDAR
VERSION:2.0
PRODID:-//achurchnearyou.com//eventfeed//EN
CALSCALE:GREGORIAN
METHOD:PUBLISH
X-WR-TIMEZONE:UTC
BEGIN:VEVENT
SUMMARY:Palm Sunday
DTSTART:20260329T090000Z
DTEND:20260329T100000Z
DTSTAMP:20260424T030619Z
UID:12876892026-03-29 09:00:00+00:00achurchnearyou
CATEGORIES:
DESCRIPTION:United Service with the churches of Upwell and Outwell
GEO:0.16541;52.621969
LOCATION:St Mark's
URL:https://www.achurchnearyou.com/church/14015/service-and-events/events/
 1287689/
END:VEVENT
END:VCALENDAR
