BEGIN:VCALENDAR
VERSION:2.0
PRODID:-//achurchnearyou.com//eventfeed//EN
CALSCALE:GREGORIAN
METHOD:PUBLISH
X-WR-TIMEZONE:UTC
BEGIN:VEVENT
SUMMARY:Patronal Festival culminating in Choral Evensong and a meal\, 6th-
 7th June 2026
DTSTART;TZID=Europe/London:20260607T110000
DTEND;TZID=Europe/London:20260607T203000
DTSTAMP:20260420T133954Z
UID:12880951780826400.0achurchnearyou
CATEGORIES:
DESCRIPTION:Still at the planning stage\, but Sunday's event will involve 
 a procession bringing water from the village spring to be blessed at the f
 ont\, followed by Choral Evensong and a free supper (we are very grateful 
 to a grant from the Choral Evensong Trust). On Saturday afternoon\, the ch
 urch will be open\, with historical exhibition and (we hope) music\, and r
 efreshments.
GEO:-2.15795;51.722043
LOCATION:Christ Church\, Chalford
URL:https://www.achurchnearyou.com/church/14051/service-and-events/events/
 1288095/
END:VEVENT
END:VCALENDAR
