BEGIN:VCALENDAR
VERSION:2.0
PRODID:-//achurchnearyou.com//eventfeed//EN
CALSCALE:GREGORIAN
METHOD:PUBLISH
X-WR-TIMEZONE:UTC
BEGIN:VEVENT
SUMMARY:Holy Communion
DTSTART:20241229T093000Z
DTEND:20241229T103000Z
DTSTAMP:20260424T074125Z
UID:11403142024-12-29 09:30:00+00:00achurchnearyou
CATEGORIES:
DESCRIPTION:Holy Communion
GEO:-2.194805;51.785249
LOCATION:St Mary 's\, Painswick
URL:https://beaconbenefice.org.uk/
END:VEVENT
END:VCALENDAR
