BEGIN:VCALENDAR
VERSION:2.0
PRODID:-//achurchnearyou.com//eventfeed//EN
CALSCALE:GREGORIAN
METHOD:PUBLISH
X-WR-TIMEZONE:UTC
BEGIN:VEVENT
SUMMARY:St Giles\, Ash Wednesday Communion Service
DTSTART:20250305T120000Z
DTEND:20250305T130000Z
DTSTAMP:20260419T140922Z
UID:11508612025-03-05 12:00:00+00:00achurchnearyou
CATEGORIES:
DESCRIPTION:12 noon Eucharist with anointing of ashes
LOCATION:St Giles
URL:https://www.achurchnearyou.com/church/14077/service-and-events/events/
 1150861/
END:VEVENT
END:VCALENDAR
