BEGIN:VCALENDAR
VERSION:2.0
PRODID:-//achurchnearyou.com//eventfeed//EN
CALSCALE:GREGORIAN
METHOD:PUBLISH
X-WR-TIMEZONE:UTC
BEGIN:VEVENT
SUMMARY:St Giles\, Uley Parish Holy Communion
DTSTART:20250316T100000Z
DTEND:20250316T110000Z
DTSTAMP:20260419T140724Z
UID:11509012025-03-16 10:00:00+00:00achurchnearyou
CATEGORIES:
DESCRIPTION:10am Eucharist
LOCATION:St Giles
URL:https://www.achurchnearyou.com/church/14077/service-and-events/events/
 1150901/
END:VEVENT
END:VCALENDAR
