BEGIN:VCALENDAR
VERSION:2.0
PRODID:-//achurchnearyou.com//eventfeed//EN
CALSCALE:GREGORIAN
METHOD:PUBLISH
X-WR-TIMEZONE:UTC
BEGIN:VEVENT
SUMMARY:Holy Communion with carols.
DTSTART:20251225T090000Z
DTEND:20251225T100000Z
DTSTAMP:20260424T030737Z
UID:12654262025-12-25 09:00:00+00:00achurchnearyou
CATEGORIES:
DESCRIPTION:Holy Communion for Christmas day
GEO:-2.478462;51.854746
LOCATION:St Michael\, Abenhall
URL:https://www.achurchnearyou.com/church/14084/service-and-events/events/
 1265426/
END:VEVENT
END:VCALENDAR
