BEGIN:VCALENDAR
VERSION:2.0
PRODID:-//achurchnearyou.com//eventfeed//EN
CALSCALE:GREGORIAN
METHOD:PUBLISH
X-WR-TIMEZONE:UTC
BEGIN:VEVENT
SUMMARY:Mothering Sunday service
DTSTART:20250330T083000Z
DTEND:20250330T093000Z
DTSTAMP:20260425T014804Z
UID:11774182025-03-30 08:30:00+00:00achurchnearyou
CATEGORIES:
DESCRIPTION:all welcome\, morning worship\,
GEO:-2.437881;51.978754
LOCATION:St Mary's\, Dymock
URL:https://www.achurchnearyou.com/church/14092/service-and-events/events/
 1177418/
END:VEVENT
END:VCALENDAR
