BEGIN:VCALENDAR
VERSION:2.0
PRODID:-//achurchnearyou.com//eventfeed//EN
CALSCALE:GREGORIAN
METHOD:PUBLISH
X-WR-TIMEZONE:UTC
BEGIN:VEVENT
SUMMARY:Carol Service
DTSTART:20251220T160000Z
DTEND:20251220T170000Z
DTSTAMP:20260424T105242Z
UID:12503672025-12-20 16:00:00+00:00achurchnearyou
CATEGORIES:
DESCRIPTION:Join us for our all age Christmas Carol Service\, which will b
 e followed by mulled wine and mince pies
LOCATION:Christ Church
URL:https://www.achurchnearyou.com/church/14095/service-and-events/events/
 1250367/
END:VEVENT
END:VCALENDAR
