BEGIN:VCALENDAR
VERSION:2.0
PRODID:-//achurchnearyou.com//eventfeed//EN
CALSCALE:GREGORIAN
METHOD:PUBLISH
X-WR-TIMEZONE:UTC
BEGIN:VEVENT
SUMMARY:Palm Sunday  united service -Holy Communion
DTSTART:20250413T093000Z
DTEND:20250413T103000Z
DTSTAMP:20260419T164141Z
UID:11696442025-04-13 09:30:00+00:00achurchnearyou
CATEGORIES:
DESCRIPTION:meet in Town Square at 10.15\, process to Holy Trinity as we r
 emember Jesus arrival in Jerusalem\nall are welcome.
GEO:-2.188704;53.917193
LOCATION:Barnoldswick: Holy Trinity
URL:https://www.achurchnearyou.com/church/1410/service-and-events/events/1
 169644/
END:VEVENT
END:VCALENDAR
