BEGIN:VCALENDAR
VERSION:2.0
PRODID:-//achurchnearyou.com//eventfeed//EN
CALSCALE:GREGORIAN
METHOD:PUBLISH
X-WR-TIMEZONE:UTC
BEGIN:VEVENT
SUMMARY:Morning Service at Northwood Green
DTSTART;TZID=Europe/London:20260405T093000
DTEND;TZID=Europe/London:20260405T100000
DTSTAMP:20260420T094104Z
UID:7996561775377800.0achurchnearyou
CATEGORIES:
DESCRIPTION:A non-communion service at which all are welcome
LOCATION:Northwood Green Church
URL:https://www.achurchnearyou.com/church/14113/service-and-events/events/
 799656/
END:VEVENT
BEGIN:VEVENT
SUMMARY:Holy Communion
DTSTART;TZID=Europe/London:20260412T093000
DTEND;TZID=Europe/London:20260412T103000
DTSTAMP:20260420T094104Z
UID:9874621775982600.0achurchnearyou
CATEGORIES:
DESCRIPTION:A Communion service with hymns\, and refreshments and chat aft
 erwards.
GEO:-2.411558;51.823028
LOCATION:St Peter\, St Paul and St Mary
URL:https://www.achurchnearyou.com/church/14113/service-and-events/events/
 987462/
END:VEVENT
BEGIN:VEVENT
SUMMARY:Family Service
DTSTART;TZID=Europe/London:20260419T100000
DTEND;TZID=Europe/London:20260419T104500
DTSTAMP:20260420T094104Z
UID:8395031776589200.0achurchnearyou
CATEGORIES:
DESCRIPTION:Singing\, prayers and activities - something for all the famil
 y with a different focus each month\, but always with refreshments afterwa
 rds.
LOCATION:Northwood Green Mission Church
URL:https://www.achurchnearyou.com/church/14113/service-and-events/events/
 839503/
END:VEVENT
BEGIN:VEVENT
SUMMARY:Holy Communion
DTSTART;TZID=Europe/London:20260426T093000
DTEND;TZID=Europe/London:20260426T101500
DTSTAMP:20260420T094104Z
UID:7996591777192200.0achurchnearyou
CATEGORIES:
DESCRIPTION:A Communion service\, this takes place on the fourth Sunday of
  the month at Northwood Green Church.
LOCATION:Northwood Green Church
URL:https://www.achurchnearyou.com/church/14113/service-and-events/events/
 799659/
END:VEVENT
BEGIN:VEVENT
SUMMARY:Morning Service at Northwood Green
DTSTART;TZID=Europe/London:20260503T093000
DTEND;TZID=Europe/London:20260503T100000
DTSTAMP:20260420T094104Z
UID:7996561777797000.0achurchnearyou
CATEGORIES:
DESCRIPTION:A non-communion service at which all are welcome
LOCATION:Northwood Green Church
URL:https://www.achurchnearyou.com/church/14113/service-and-events/events/
 799656/
END:VEVENT
BEGIN:VEVENT
SUMMARY:Holy Communion
DTSTART;TZID=Europe/London:20260510T093000
DTEND;TZID=Europe/London:20260510T103000
DTSTAMP:20260420T094104Z
UID:9874621778401800.0achurchnearyou
CATEGORIES:
DESCRIPTION:A Communion service with hymns\, and refreshments and chat aft
 erwards.
GEO:-2.411558;51.823028
LOCATION:St Peter\, St Paul and St Mary
URL:https://www.achurchnearyou.com/church/14113/service-and-events/events/
 987462/
END:VEVENT
BEGIN:VEVENT
SUMMARY:Family Service
DTSTART;TZID=Europe/London:20260517T100000
DTEND;TZID=Europe/London:20260517T104500
DTSTAMP:20260420T094104Z
UID:8395031779008400.0achurchnearyou
CATEGORIES:
DESCRIPTION:Singing\, prayers and activities - something for all the famil
 y with a different focus each month\, but always with refreshments afterwa
 rds.
LOCATION:Northwood Green Mission Church
URL:https://www.achurchnearyou.com/church/14113/service-and-events/events/
 839503/
END:VEVENT
BEGIN:VEVENT
SUMMARY:Holy Communion
DTSTART;TZID=Europe/London:20260524T093000
DTEND;TZID=Europe/London:20260524T101500
DTSTAMP:20260420T094104Z
UID:7996591779611400.0achurchnearyou
CATEGORIES:
DESCRIPTION:A Communion service\, this takes place on the fourth Sunday of
  the month at Northwood Green Church.
LOCATION:Northwood Green Church
URL:https://www.achurchnearyou.com/church/14113/service-and-events/events/
 799659/
END:VEVENT
BEGIN:VEVENT
SUMMARY:Morning Service at Northwood Green
DTSTART;TZID=Europe/London:20260607T093000
DTEND;TZID=Europe/London:20260607T100000
DTSTAMP:20260420T094104Z
UID:7996561780821000.0achurchnearyou
CATEGORIES:
DESCRIPTION:A non-communion service at which all are welcome
LOCATION:Northwood Green Church
URL:https://www.achurchnearyou.com/church/14113/service-and-events/events/
 799656/
END:VEVENT
BEGIN:VEVENT
SUMMARY:Holy Communion
DTSTART;TZID=Europe/London:20260614T093000
DTEND;TZID=Europe/London:20260614T103000
DTSTAMP:20260420T094104Z
UID:9874621781425800.0achurchnearyou
CATEGORIES:
DESCRIPTION:A Communion service with hymns\, and refreshments and chat aft
 erwards.
GEO:-2.411558;51.823028
LOCATION:St Peter\, St Paul and St Mary
URL:https://www.achurchnearyou.com/church/14113/service-and-events/events/
 987462/
END:VEVENT
BEGIN:VEVENT
SUMMARY:Family Service
DTSTART;TZID=Europe/London:20260621T100000
DTEND;TZID=Europe/London:20260621T104500
DTSTAMP:20260420T094104Z
UID:8395031782032400.0achurchnearyou
CATEGORIES:
DESCRIPTION:Singing\, prayers and activities - something for all the famil
 y with a different focus each month\, but always with refreshments afterwa
 rds.
LOCATION:Northwood Green Mission Church
URL:https://www.achurchnearyou.com/church/14113/service-and-events/events/
 839503/
END:VEVENT
BEGIN:VEVENT
SUMMARY:Holy Communion
DTSTART;TZID=Europe/London:20260628T093000
DTEND;TZID=Europe/London:20260628T101500
DTSTAMP:20260420T094104Z
UID:7996591782635400.0achurchnearyou
CATEGORIES:
DESCRIPTION:A Communion service\, this takes place on the fourth Sunday of
  the month at Northwood Green Church.
LOCATION:Northwood Green Church
URL:https://www.achurchnearyou.com/church/14113/service-and-events/events/
 799659/
END:VEVENT
BEGIN:VEVENT
SUMMARY:Morning Service at Northwood Green
DTSTART;TZID=Europe/London:20260705T093000
DTEND;TZID=Europe/London:20260705T100000
DTSTAMP:20260420T094104Z
UID:7996561783240200.0achurchnearyou
CATEGORIES:
DESCRIPTION:A non-communion service at which all are welcome
LOCATION:Northwood Green Church
URL:https://www.achurchnearyou.com/church/14113/service-and-events/events/
 799656/
END:VEVENT
BEGIN:VEVENT
SUMMARY:Holy Communion
DTSTART;TZID=Europe/London:20260712T093000
DTEND;TZID=Europe/London:20260712T103000
DTSTAMP:20260420T094104Z
UID:9874621783845000.0achurchnearyou
CATEGORIES:
DESCRIPTION:A Communion service with hymns\, and refreshments and chat aft
 erwards.
GEO:-2.411558;51.823028
LOCATION:St Peter\, St Paul and St Mary
URL:https://www.achurchnearyou.com/church/14113/service-and-events/events/
 987462/
END:VEVENT
BEGIN:VEVENT
SUMMARY:Family Service
DTSTART;TZID=Europe/London:20260719T100000
DTEND;TZID=Europe/London:20260719T104500
DTSTAMP:20260420T094104Z
UID:8395031784451600.0achurchnearyou
CATEGORIES:
DESCRIPTION:Singing\, prayers and activities - something for all the famil
 y with a different focus each month\, but always with refreshments afterwa
 rds.
LOCATION:Northwood Green Mission Church
URL:https://www.achurchnearyou.com/church/14113/service-and-events/events/
 839503/
END:VEVENT
BEGIN:VEVENT
SUMMARY:Holy Communion
DTSTART;TZID=Europe/London:20260726T093000
DTEND;TZID=Europe/London:20260726T101500
DTSTAMP:20260420T094104Z
UID:7996591785054600.0achurchnearyou
CATEGORIES:
DESCRIPTION:A Communion service\, this takes place on the fourth Sunday of
  the month at Northwood Green Church.
LOCATION:Northwood Green Church
URL:https://www.achurchnearyou.com/church/14113/service-and-events/events/
 799659/
END:VEVENT
BEGIN:VEVENT
SUMMARY:Morning Service at Northwood Green
DTSTART;TZID=Europe/London:20260802T093000
DTEND;TZID=Europe/London:20260802T100000
DTSTAMP:20260420T094104Z
UID:7996561785659400.0achurchnearyou
CATEGORIES:
DESCRIPTION:A non-communion service at which all are welcome
LOCATION:Northwood Green Church
URL:https://www.achurchnearyou.com/church/14113/service-and-events/events/
 799656/
END:VEVENT
BEGIN:VEVENT
SUMMARY:Holy Communion
DTSTART;TZID=Europe/London:20260809T093000
DTEND;TZID=Europe/London:20260809T103000
DTSTAMP:20260420T094104Z
UID:9874621786264200.0achurchnearyou
CATEGORIES:
DESCRIPTION:A Communion service with hymns\, and refreshments and chat aft
 erwards.
GEO:-2.411558;51.823028
LOCATION:St Peter\, St Paul and St Mary
URL:https://www.achurchnearyou.com/church/14113/service-and-events/events/
 987462/
END:VEVENT
BEGIN:VEVENT
SUMMARY:Family Service
DTSTART;TZID=Europe/London:20260816T100000
DTEND;TZID=Europe/London:20260816T104500
DTSTAMP:20260420T094104Z
UID:8395031786870800.0achurchnearyou
CATEGORIES:
DESCRIPTION:Singing\, prayers and activities - something for all the famil
 y with a different focus each month\, but always with refreshments afterwa
 rds.
LOCATION:Northwood Green Mission Church
URL:https://www.achurchnearyou.com/church/14113/service-and-events/events/
 839503/
END:VEVENT
BEGIN:VEVENT
SUMMARY:Holy Communion
DTSTART;TZID=Europe/London:20260823T093000
DTEND;TZID=Europe/London:20260823T101500
DTSTAMP:20260420T094104Z
UID:7996591787473800.0achurchnearyou
CATEGORIES:
DESCRIPTION:A Communion service\, this takes place on the fourth Sunday of
  the month at Northwood Green Church.
LOCATION:Northwood Green Church
URL:https://www.achurchnearyou.com/church/14113/service-and-events/events/
 799659/
END:VEVENT
BEGIN:VEVENT
SUMMARY:Morning Service at Northwood Green
DTSTART;TZID=Europe/London:20260906T093000
DTEND;TZID=Europe/London:20260906T100000
DTSTAMP:20260420T094104Z
UID:7996561788683400.0achurchnearyou
CATEGORIES:
DESCRIPTION:A non-communion service at which all are welcome
LOCATION:Northwood Green Church
URL:https://www.achurchnearyou.com/church/14113/service-and-events/events/
 799656/
END:VEVENT
BEGIN:VEVENT
SUMMARY:Holy Communion
DTSTART;TZID=Europe/London:20260913T093000
DTEND;TZID=Europe/London:20260913T103000
DTSTAMP:20260420T094104Z
UID:9874621789288200.0achurchnearyou
CATEGORIES:
DESCRIPTION:A Communion service with hymns\, and refreshments and chat aft
 erwards.
GEO:-2.411558;51.823028
LOCATION:St Peter\, St Paul and St Mary
URL:https://www.achurchnearyou.com/church/14113/service-and-events/events/
 987462/
END:VEVENT
BEGIN:VEVENT
SUMMARY:Family Service
DTSTART;TZID=Europe/London:20260920T100000
DTEND;TZID=Europe/London:20260920T104500
DTSTAMP:20260420T094104Z
UID:8395031789894800.0achurchnearyou
CATEGORIES:
DESCRIPTION:Singing\, prayers and activities - something for all the famil
 y with a different focus each month\, but always with refreshments afterwa
 rds.
LOCATION:Northwood Green Mission Church
URL:https://www.achurchnearyou.com/church/14113/service-and-events/events/
 839503/
END:VEVENT
BEGIN:VEVENT
SUMMARY:Holy Communion
DTSTART;TZID=Europe/London:20260927T093000
DTEND;TZID=Europe/London:20260927T101500
DTSTAMP:20260420T094104Z
UID:7996591790497800.0achurchnearyou
CATEGORIES:
DESCRIPTION:A Communion service\, this takes place on the fourth Sunday of
  the month at Northwood Green Church.
LOCATION:Northwood Green Church
URL:https://www.achurchnearyou.com/church/14113/service-and-events/events/
 799659/
END:VEVENT
END:VCALENDAR
