BEGIN:VCALENDAR
VERSION:2.0
PRODID:-//achurchnearyou.com//eventfeed//EN
CALSCALE:GREGORIAN
METHOD:PUBLISH
X-WR-TIMEZONE:UTC
BEGIN:VEVENT
SUMMARY:Morning Prayer and Home Prayers
DTSTART:20250720T090000Z
DTEND:20250720T100000Z
DTSTAMP:20260425T001619Z
UID:12096712025-07-20 09:00:00+00:00achurchnearyou
CATEGORIES:
DESCRIPTION:Trinity 5\nReadings: Genesis 18.1-10a\nColossians 1.15-28\nLuk
 e 10.38-end
LOCATION:St Paul's - 'The Church In The Woods'
URL:https://parkendandvineyhillchurches.org.uk/index.php
END:VEVENT
END:VCALENDAR
