BEGIN:VCALENDAR
VERSION:2.0
PRODID:-//achurchnearyou.com//eventfeed//EN
CALSCALE:GREGORIAN
METHOD:PUBLISH
X-WR-TIMEZONE:UTC
BEGIN:VEVENT
SUMMARY:Holy Communion and Home Prayers
DTSTART:20260118T100000Z
DTEND:20260118T110000Z
DTSTAMP:20260424T020451Z
UID:12729602026-01-18 10:00:00+00:00achurchnearyou
CATEGORIES:
DESCRIPTION:2nd Sunday of Epiphany\nIsaiah 49.1-7\n1 Corinthians 1.1-9\nJo
 hn 1.29-42
LOCATION:St Paul's - 'The Church In The Woods'
URL:https://parkendandvineyhillchurches.org.uk/index.php
END:VEVENT
END:VCALENDAR
