BEGIN:VCALENDAR
VERSION:2.0
PRODID:-//achurchnearyou.com//eventfeed//EN
CALSCALE:GREGORIAN
METHOD:PUBLISH
X-WR-TIMEZONE:UTC
BEGIN:VEVENT
SUMMARY:Morning Prayer and Home Prayers
DTSTART:20260426T090000Z
DTEND:20260426T100000Z
DTSTAMP:20260422T201337Z
UID:13199052026-04-26 09:00:00+00:00achurchnearyou
CATEGORIES:
DESCRIPTION:Easter 4\nReadings: Acts 2.42-end\n1 Peter 2.19-end\nJohn 10.1
 -10
LOCATION:St Paul's - 'The Church In The Woods'
URL:https://parkendandvineyhillchurches.org.uk/index.php
END:VEVENT
END:VCALENDAR
