BEGIN:VCALENDAR
VERSION:2.0
PRODID:-//achurchnearyou.com//eventfeed//EN
CALSCALE:GREGORIAN
METHOD:PUBLISH
X-WR-TIMEZONE:UTC
BEGIN:VEVENT
SUMMARY:Holy Communion and Home Prayers
DTSTART:20250615T090000Z
DTEND:20250615T100000Z
DTSTAMP:20260425T034735Z
UID:9481752025-06-15 09:00:00+00:00achurchnearyou
CATEGORIES:
DESCRIPTION:Trinity Sunday\nReadings: Proverbs 8.1-4\, 22-31\nRomans 5.1-5
 \nJohn 16.12-15
LOCATION:St Paul's - 'The Church In The Woods'
URL:https://parkendandvineyhillchurches.org.uk/index.php
END:VEVENT
END:VCALENDAR
