BEGIN:VCALENDAR
VERSION:2.0
PRODID:-//achurchnearyou.com//eventfeed//EN
CALSCALE:GREGORIAN
METHOD:PUBLISH
X-WR-TIMEZONE:UTC
BEGIN:VEVENT
SUMMARY:Ash Wednesday Eucharist
DTSTART:20250305T100000Z
DTEND:20250305T110000Z
DTSTAMP:20260419T154418Z
UID:11597882025-03-05 10:00:00+00:00achurchnearyou
CATEGORIES:
DESCRIPTION:All are welcome to join us as we mark Ash Wednesday with Eucha
 rist including the imposition of ashes
GEO:-2.271922;51.851602
LOCATION:St Swithun
URL:http://www.swithunandmary.org.uk
END:VEVENT
END:VCALENDAR
