BEGIN:VCALENDAR
VERSION:2.0
PRODID:-//achurchnearyou.com//eventfeed//EN
CALSCALE:GREGORIAN
METHOD:PUBLISH
X-WR-TIMEZONE:UTC
BEGIN:VEVENT
SUMMARY:Christmas Day Service at Gt  Badminton
DTSTART:20171225T110000Z
DTEND:20171225T113000Z
DTSTAMP:20260422T203226Z
UID:4032442017-12-25 11:00:00+00:00achurchnearyou
CATEGORIES:
DESCRIPTION:
GEO:-2.280236;51.544309
LOCATION:St Michael & All Angels
URL:https://www.achurchnearyou.com/church/14193/service-and-events/events/
 403244/
END:VEVENT
END:VCALENDAR
