BEGIN:VCALENDAR
VERSION:2.0
PRODID:-//achurchnearyou.com//eventfeed//EN
CALSCALE:GREGORIAN
METHOD:PUBLISH
X-WR-TIMEZONE:UTC
BEGIN:VEVENT
SUMMARY:Muddy Praise
DTSTART:20211128T160000Z
DTEND:20211128T164500Z
DTSTAMP:20260422T055611Z
UID:7806812021-11-28 16:00:00+00:00achurchnearyou
CATEGORIES:
DESCRIPTION:This month for the first time at Oldbury!
GEO:-2.567146;51.624645
LOCATION:St Arilda's Oldbury
URL:https://www.achurchnearyou.com/church/14203/service-and-events/events/
 780681/
END:VEVENT
END:VCALENDAR
