BEGIN:VCALENDAR
VERSION:2.0
PRODID:-//achurchnearyou.com//eventfeed//EN
CALSCALE:GREGORIAN
METHOD:PUBLISH
X-WR-TIMEZONE:UTC
BEGIN:VEVENT
SUMMARY:Combined Benefice Holy Communion
DTSTART;TZID=Europe/London:20260531T100000
DTEND;TZID=Europe/London:20260531T110000
DTSTAMP:20260421T105133Z
UID:4099342026-05-31 10:00:00+01:00achurchnearyou
CATEGORIES:
DESCRIPTION:
GEO:-2.276465;51.735401
LOCATION:St George's
URL:https://www.achurchnearyou.com/church/14225/service-and-events/events/
 409934/
END:VEVENT
BEGIN:VEVENT
SUMMARY:Combined Benefice Holy Communion
DTSTART;TZID=Europe/London:20260830T100000
DTEND;TZID=Europe/London:20260830T110000
DTSTAMP:20260421T105133Z
UID:4099342026-08-30 10:00:00+01:00achurchnearyou
CATEGORIES:
DESCRIPTION:
GEO:-2.276465;51.735401
LOCATION:St George's
URL:https://www.achurchnearyou.com/church/14225/service-and-events/events/
 409934/
END:VEVENT
BEGIN:VEVENT
SUMMARY:Combined Benefice Holy Communion
DTSTART;TZID=Europe/London:20261129T100000
DTEND;TZID=Europe/London:20261129T110000
DTSTAMP:20260421T105133Z
UID:4099342026-11-29 10:00:00+00:00achurchnearyou
CATEGORIES:
DESCRIPTION:
GEO:-2.276465;51.735401
LOCATION:St George's
URL:https://www.achurchnearyou.com/church/14225/service-and-events/events/
 409934/
END:VEVENT
BEGIN:VEVENT
SUMMARY:Combined Benefice Holy Communion
DTSTART;TZID=Europe/London:20270131T100000
DTEND;TZID=Europe/London:20270131T110000
DTSTAMP:20260421T105133Z
UID:4099342027-01-31 10:00:00+00:00achurchnearyou
CATEGORIES:
DESCRIPTION:
GEO:-2.276465;51.735401
LOCATION:St George's
URL:https://www.achurchnearyou.com/church/14225/service-and-events/events/
 409934/
END:VEVENT
END:VCALENDAR
