BEGIN:VCALENDAR
VERSION:2.0
PRODID:-//achurchnearyou.com//eventfeed//EN
CALSCALE:GREGORIAN
METHOD:PUBLISH
X-WR-TIMEZONE:UTC
BEGIN:VEVENT
SUMMARY:Sunday Worship
DTSTART:20260426T080000Z
DTEND:20260426T090000Z
DTSTAMP:20260422T201336Z
UID:13247732026-04-26 08:00:00+00:00achurchnearyou
CATEGORIES:
DESCRIPTION:Our regular Sunday service of praise.
GEO:-2.228299;51.738417
LOCATION:St Mary Magdalene
URL:https://www.achurchnearyou.com/church/14230/service-and-events/events/
 1324773/
END:VEVENT
END:VCALENDAR
